BEGIN:VCALENDAR
VERSION:2.0
PRODID:-//Lea Suter: Cembalo, Orgel, Clavichord - ECPv6.15.17.1//NONSGML v1.0//EN
CALSCALE:GREGORIAN
METHOD:PUBLISH
X-ORIGINAL-URL:https://leasuter.com
X-WR-CALDESC:Veranstaltungen für Lea Suter: Cembalo, Orgel, Clavichord
REFRESH-INTERVAL;VALUE=DURATION:PT1H
X-Robots-Tag:noindex
X-PUBLISHED-TTL:PT1H
BEGIN:VTIMEZONE
TZID:Europe/Berlin
BEGIN:DAYLIGHT
TZOFFSETFROM:+0100
TZOFFSETTO:+0200
TZNAME:CEST
DTSTART:20210328T010000
END:DAYLIGHT
BEGIN:STANDARD
TZOFFSETFROM:+0200
TZOFFSETTO:+0100
TZNAME:CET
DTSTART:20211031T010000
END:STANDARD
BEGIN:DAYLIGHT
TZOFFSETFROM:+0100
TZOFFSETTO:+0200
TZNAME:CEST
DTSTART:20220327T010000
END:DAYLIGHT
BEGIN:STANDARD
TZOFFSETFROM:+0200
TZOFFSETTO:+0100
TZNAME:CET
DTSTART:20221030T010000
END:STANDARD
BEGIN:DAYLIGHT
TZOFFSETFROM:+0100
TZOFFSETTO:+0200
TZNAME:CEST
DTSTART:20230326T010000
END:DAYLIGHT
BEGIN:STANDARD
TZOFFSETFROM:+0200
TZOFFSETTO:+0100
TZNAME:CET
DTSTART:20231029T010000
END:STANDARD
END:VTIMEZONE
BEGIN:VEVENT
DTSTART;TZID=Europe/Berlin:20220514T193000
DTEND;TZID=Europe/Berlin:20220514T193000
DTSTAMP:20260423T201738
CREATED:20220403T135039Z
LAST-MODIFIED:20220406T122754Z
UID:2196-1652556600-1652556600@leasuter.com
SUMMARY:14. Mai - Ganderkesee: Festkonzert zum Heinrich Schütz-Jubiläum
DESCRIPTION:Weckmann – Consort (Leitung: Lea Suter & Juan González Martínez) \nWerke von Schütz – Weckmann -Gabrieli \nMitwirkende: \nErika Tandiono – Sopran\nSonja Boskou – Alt\nFridolin Wissemann – Tenor\nSönke Tams Freier – Bass \nManoel Reinecke – Violine\nCsenge Orgovan – Violine\nAnja Engelberg – Viola da Gamba\nJenny Westmann – Violone \nNicholas Emersson – Zink\nJuan González Martínez – Posaune & künstl. Leitung\nKatrin Zolnhofer – Posaune\nEster van der Veen – Dulzian \nFernando Olivas – Theorbe\nLea Suter – Orgel & künstl. Leitung
URL:https://leasuter.com/event/festkonzert-zum-heinrich-schuetz-jubilaeum/
LOCATION:Ganderkesee\, St. Cyprian- und Cornelius Kirche
CATEGORIES:Weckmann-Consort
ATTACH;FMTTYPE=image/jpeg:https://leasuter.com/wp-content/uploads/2021/08/cropped-Weckmann-Consort.jpg
END:VEVENT
BEGIN:VEVENT
DTSTART;TZID=Europe/Berlin:20220514T193000
DTEND;TZID=Europe/Berlin:20220514T193000
DTSTAMP:20260423T201738
CREATED:20220403T135310Z
LAST-MODIFIED:20220406T122735Z
UID:2200-1652556600-1652556600@leasuter.com
SUMMARY:15. Mai - Bockhorn: Festkonzert zum Heinrich Schütz-Jubiläum
DESCRIPTION:Weckmann – Consort (Leitung: Lea Suter & Juan González Martínez) \nWerke von Schütz – Weckmann -Gabrieli \nMitwirkende: \nErika Tandiono – Sopran\nSonja Boskou – Alt\nFridolin Wissemann – Tenor\nSönke Tams Freier – Bass \nManoel Reinecke – Violine\nCsenge Orgovan – Violine\nAnja Engelberg – Viola da Gamba\nJenny Westmann – Violone \nNicholas Emersson – Zink\nJuan González Martínez – Posaune & künstl. Leitung\nKatrin Zolnhofer – Posaune\nEster van der Veen – Dulzian \nFernando Olivas – Theorbe\nLea Suter – Orgel & künstl. Leitung
URL:https://leasuter.com/event/15-mai-bockhorn-festkonzert-zum-heinrich-schuetz-jubilaeum/
LOCATION:Bockhorn\, St. Cosmas und Damian Kirche
CATEGORIES:Weckmann-Consort
ATTACH;FMTTYPE=image/jpeg:https://leasuter.com/wp-content/uploads/2021/08/cropped-Weckmann-Consort.jpg
END:VEVENT
END:VCALENDAR