BEGIN:VCALENDAR
VERSION:2.0
PRODID:-//Lea Suter: Cembalo, Orgel, Clavichord - ECPv6.15.17.1//NONSGML v1.0//EN
CALSCALE:GREGORIAN
METHOD:PUBLISH
X-WR-CALNAME:Lea Suter: Cembalo, Orgel, Clavichord
X-ORIGINAL-URL:https://leasuter.com
X-WR-CALDESC:Veranstaltungen für Lea Suter: Cembalo, Orgel, Clavichord
REFRESH-INTERVAL;VALUE=DURATION:PT1H
X-Robots-Tag:noindex
X-PUBLISHED-TTL:PT1H
BEGIN:VTIMEZONE
TZID:Europe/Berlin
BEGIN:DAYLIGHT
TZOFFSETFROM:+0100
TZOFFSETTO:+0200
TZNAME:CEST
DTSTART:20210328T010000
END:DAYLIGHT
BEGIN:STANDARD
TZOFFSETFROM:+0200
TZOFFSETTO:+0100
TZNAME:CET
DTSTART:20211031T010000
END:STANDARD
BEGIN:DAYLIGHT
TZOFFSETFROM:+0100
TZOFFSETTO:+0200
TZNAME:CEST
DTSTART:20220327T010000
END:DAYLIGHT
BEGIN:STANDARD
TZOFFSETFROM:+0200
TZOFFSETTO:+0100
TZNAME:CET
DTSTART:20221030T010000
END:STANDARD
BEGIN:DAYLIGHT
TZOFFSETFROM:+0100
TZOFFSETTO:+0200
TZNAME:CEST
DTSTART:20230326T010000
END:DAYLIGHT
BEGIN:STANDARD
TZOFFSETFROM:+0200
TZOFFSETTO:+0100
TZNAME:CET
DTSTART:20231029T010000
END:STANDARD
END:VTIMEZONE
BEGIN:VEVENT
DTSTART;TZID=Europe/Berlin:20220701T190000
DTEND;TZID=Europe/Berlin:20220701T190000
DTSTAMP:20260423T170523
CREATED:20220518T072429Z
LAST-MODIFIED:20220518T072508Z
UID:2234-1656702000-1656702000@leasuter.com
SUMMARY:1. Juli\, Köln-Frechen\, Alt St. Ulrich-Kirche
DESCRIPTION:Ensemble Concierto Iberico
URL:https://leasuter.com/event/2-juli-koeln-frechen-alt-st-ulrich-kriche/
LOCATION:Köln-Frechen
CATEGORIES:Ensemble Concierto Iberico
ATTACH;FMTTYPE=image/jpeg:https://leasuter.com/wp-content/uploads/2021/08/Concierto_Iberico-175_sm.jpg
END:VEVENT
END:VCALENDAR