BEGIN:VCALENDAR
VERSION:2.0
PRODID:-//Lea Suter: Cembalo, Orgel, Clavichord - ECPv6.15.17.1//NONSGML v1.0//EN
CALSCALE:GREGORIAN
METHOD:PUBLISH
X-ORIGINAL-URL:https://leasuter.com
X-WR-CALDESC:Veranstaltungen für Lea Suter: Cembalo, Orgel, Clavichord
REFRESH-INTERVAL;VALUE=DURATION:PT1H
X-Robots-Tag:noindex
X-PUBLISHED-TTL:PT1H
BEGIN:VTIMEZONE
TZID:Europe/Berlin
BEGIN:DAYLIGHT
TZOFFSETFROM:+0100
TZOFFSETTO:+0200
TZNAME:CEST
DTSTART:20210328T010000
END:DAYLIGHT
BEGIN:STANDARD
TZOFFSETFROM:+0200
TZOFFSETTO:+0100
TZNAME:CET
DTSTART:20211031T010000
END:STANDARD
BEGIN:DAYLIGHT
TZOFFSETFROM:+0100
TZOFFSETTO:+0200
TZNAME:CEST
DTSTART:20220327T010000
END:DAYLIGHT
BEGIN:STANDARD
TZOFFSETFROM:+0200
TZOFFSETTO:+0100
TZNAME:CET
DTSTART:20221030T010000
END:STANDARD
BEGIN:DAYLIGHT
TZOFFSETFROM:+0100
TZOFFSETTO:+0200
TZNAME:CEST
DTSTART:20230326T010000
END:DAYLIGHT
BEGIN:STANDARD
TZOFFSETFROM:+0200
TZOFFSETTO:+0100
TZNAME:CET
DTSTART:20231029T010000
END:STANDARD
END:VTIMEZONE
BEGIN:VEVENT
DTSTART;TZID=Europe/Berlin:20220917T200000
DTEND;TZID=Europe/Berlin:20220917T200000
DTSTAMP:20260423T135708
CREATED:20220225T144822Z
LAST-MODIFIED:20220628T162249Z
UID:2083-1663444800-1663444800@leasuter.com
SUMMARY:17. September\, Leipzig - Michaelis-Kirche
DESCRIPTION:Der Atem des Jugendstils – Ein Hauch von Romantik\,\nDuo GlossArte & Franz Kuhn-Posaunenquartett\, Record Release-Tour 2022
URL:https://leasuter.com/event/der-atem-des-jugendstils-ein-hauch-von-romantik-6/
LOCATION:Michaelis-Kirche\, Leipzig
CATEGORIES:Duo GlossArte
ATTACH;FMTTYPE=image/jpeg:https://leasuter.com/wp-content/uploads/2021/08/cropped-cropped-Duo_GlossArte_sm-1-e1627985561739.jpg
END:VEVENT
END:VCALENDAR