BEGIN:VCALENDAR
VERSION:2.0
PRODID:-//Lea Suter: Cembalo, Orgel, Clavichord - ECPv6.15.17.1//NONSGML v1.0//EN
CALSCALE:GREGORIAN
METHOD:PUBLISH
X-WR-CALNAME:Lea Suter: Cembalo, Orgel, Clavichord
X-ORIGINAL-URL:https://leasuter.com
X-WR-CALDESC:Veranstaltungen für Lea Suter: Cembalo, Orgel, Clavichord
REFRESH-INTERVAL;VALUE=DURATION:PT1H
X-Robots-Tag:noindex
X-PUBLISHED-TTL:PT1H
BEGIN:VTIMEZONE
TZID:Europe/Berlin
BEGIN:DAYLIGHT
TZOFFSETFROM:+0100
TZOFFSETTO:+0200
TZNAME:CEST
DTSTART:20210328T010000
END:DAYLIGHT
BEGIN:STANDARD
TZOFFSETFROM:+0200
TZOFFSETTO:+0100
TZNAME:CET
DTSTART:20211031T010000
END:STANDARD
BEGIN:DAYLIGHT
TZOFFSETFROM:+0100
TZOFFSETTO:+0200
TZNAME:CEST
DTSTART:20220327T010000
END:DAYLIGHT
BEGIN:STANDARD
TZOFFSETFROM:+0200
TZOFFSETTO:+0100
TZNAME:CET
DTSTART:20221030T010000
END:STANDARD
BEGIN:DAYLIGHT
TZOFFSETFROM:+0100
TZOFFSETTO:+0200
TZNAME:CEST
DTSTART:20230326T010000
END:DAYLIGHT
BEGIN:STANDARD
TZOFFSETFROM:+0200
TZOFFSETTO:+0100
TZNAME:CET
DTSTART:20231029T010000
END:STANDARD
END:VTIMEZONE
BEGIN:VEVENT
DTSTART;TZID=Europe/Berlin:20221021T190000
DTEND;TZID=Europe/Berlin:20221021T200000
DTSTAMP:20260423T123530
CREATED:20220723T091401Z
LAST-MODIFIED:20220919T191151Z
UID:2455-1666378800-1666382400@leasuter.com
SUMMARY:21. Oktober\, Leipzig
DESCRIPTION:Fandango – Inspiración \nDaniele Nimietz – Tanz \nInés Pina Perez – Barockflöte\nJuan González Martínez – Barockposaune\nFernando Olivas – Theorbe und spanische Gitarre\nTorsten Pfeffer – Perkussion\nLea Suter – 16-Fuss Cembalo
URL:https://leasuter.com/event/21-oktober-leipzig/
LOCATION:Leipzig\, Kulturnhalle\, Connewitzer Str.6\, Leipzig
CATEGORIES:Cembalo,Ensemble Concierto Iberico
END:VEVENT
END:VCALENDAR