BEGIN:VCALENDAR
VERSION:2.0
PRODID:-//Lea Suter: Cembalo, Orgel, Clavichord - ECPv6.15.17.1//NONSGML v1.0//EN
CALSCALE:GREGORIAN
METHOD:PUBLISH
X-ORIGINAL-URL:https://leasuter.com
X-WR-CALDESC:Veranstaltungen für Lea Suter: Cembalo, Orgel, Clavichord
REFRESH-INTERVAL;VALUE=DURATION:PT1H
X-Robots-Tag:noindex
X-PUBLISHED-TTL:PT1H
BEGIN:VTIMEZONE
TZID:Europe/Berlin
BEGIN:DAYLIGHT
TZOFFSETFROM:+0100
TZOFFSETTO:+0200
TZNAME:CEST
DTSTART:20210328T010000
END:DAYLIGHT
BEGIN:STANDARD
TZOFFSETFROM:+0200
TZOFFSETTO:+0100
TZNAME:CET
DTSTART:20211031T010000
END:STANDARD
BEGIN:DAYLIGHT
TZOFFSETFROM:+0100
TZOFFSETTO:+0200
TZNAME:CEST
DTSTART:20220327T010000
END:DAYLIGHT
BEGIN:STANDARD
TZOFFSETFROM:+0200
TZOFFSETTO:+0100
TZNAME:CET
DTSTART:20221030T010000
END:STANDARD
BEGIN:DAYLIGHT
TZOFFSETFROM:+0100
TZOFFSETTO:+0200
TZNAME:CEST
DTSTART:20230326T010000
END:DAYLIGHT
BEGIN:STANDARD
TZOFFSETFROM:+0200
TZOFFSETTO:+0100
TZNAME:CET
DTSTART:20231029T010000
END:STANDARD
END:VTIMEZONE
BEGIN:VEVENT
DTSTART;TZID=Europe/Berlin:20221210T193000
DTEND;TZID=Europe/Berlin:20221210T193000
DTSTAMP:20260423T093659
CREATED:20221125T133558Z
LAST-MODIFIED:20221125T141658Z
UID:2573-1670700600-1670700600@leasuter.com
SUMMARY:10. Dezember\, Hamburg
DESCRIPTION:Georg Friedrich Händel – Messias (Auszüge)\nJohann Sebastian Bach – Jauchzet Gott in allen Landen BWV 51\nAntonio Vivaldi – Gloria RV 590 \nKantorei Heilig Geist\nHamburger Kammerensemble \nLeitung: Tom Kessler
URL:https://leasuter.com/event/10-dezember-hamburg/
LOCATION:Kirche St. Bonifatius\, Hamburg-Eimsbüttel
CATEGORIES:Cembalo,Orchester
ATTACH;FMTTYPE=image/jpeg:https://leasuter.com/wp-content/uploads/2022/01/pict-026-scaled.jpg
END:VEVENT
END:VCALENDAR