BEGIN:VCALENDAR
VERSION:2.0
PRODID:-//Lea Suter: Cembalo, Orgel, Clavichord - ECPv6.15.17.1//NONSGML v1.0//EN
CALSCALE:GREGORIAN
METHOD:PUBLISH
X-ORIGINAL-URL:https://leasuter.com
X-WR-CALDESC:Veranstaltungen für Lea Suter: Cembalo, Orgel, Clavichord
REFRESH-INTERVAL;VALUE=DURATION:PT1H
X-Robots-Tag:noindex
X-PUBLISHED-TTL:PT1H
BEGIN:VTIMEZONE
TZID:Europe/Berlin
BEGIN:DAYLIGHT
TZOFFSETFROM:+0100
TZOFFSETTO:+0200
TZNAME:CEST
DTSTART:20220327T010000
END:DAYLIGHT
BEGIN:STANDARD
TZOFFSETFROM:+0200
TZOFFSETTO:+0100
TZNAME:CET
DTSTART:20221030T010000
END:STANDARD
BEGIN:DAYLIGHT
TZOFFSETFROM:+0100
TZOFFSETTO:+0200
TZNAME:CEST
DTSTART:20230326T010000
END:DAYLIGHT
BEGIN:STANDARD
TZOFFSETFROM:+0200
TZOFFSETTO:+0100
TZNAME:CET
DTSTART:20231029T010000
END:STANDARD
BEGIN:DAYLIGHT
TZOFFSETFROM:+0100
TZOFFSETTO:+0200
TZNAME:CEST
DTSTART:20240331T010000
END:DAYLIGHT
BEGIN:STANDARD
TZOFFSETFROM:+0200
TZOFFSETTO:+0100
TZNAME:CET
DTSTART:20241027T010000
END:STANDARD
END:VTIMEZONE
BEGIN:VEVENT
DTSTART;TZID=Europe/Berlin:20230325T130000
DTEND;TZID=Europe/Berlin:20230325T150000
DTSTAMP:20260423T044833
CREATED:20230303T153241Z
LAST-MODIFIED:20230303T153241Z
UID:2778-1679749200-1679756400@leasuter.com
SUMMARY:Konzert StattReise - Die Bremer Stadtmusikanten 2.0
DESCRIPTION:Bei der Konzert-StattReise-Stadtmusikanten 2.0 bleibt kein Auge trocken. Mit der schwungvollen Musik des auf historischen Instrumenten musizierenden Ensembles Concierto Ibérico und den historischen Fakten und kuriosen Geschichten des Rundgangsleiters erleben die Teilnehmer bei Bremens erster konzertierender Stadtführung das alte Bremen ganz neu. Die vier jungen Musiker lassen die Musik der echten Stadtmusikanten vergangener Jahrhunderte wiederaufleben! \nTeaser: https://youtu.be/tUHrGMlOtN4 \nKarten: https://www.stattreisen-bremen.de/stadtfuehrungen/thema/auflistung/inszenierte-fuehrungen/musikalische-stadtfuehrung-stadtfuehrung-mit-konzert.html \nMitwirkende\nAndreas Calic – Rundgangsleiter\nInés Pina Pérez – Renaissance-Blockflöten\nJuan González Martínez – Renaissance-Posaune (Ltg.)\nMiguel Bellas – Spanische Gitarre\, Theorbe\nLea Suter – Cembalo\, Orgel\nPeter Kuhnsch – Perkussion
URL:https://leasuter.com/event/konzert-stattreise-die-bremer-stadtmusikanten-2-0-5/
LOCATION:Bremen\, Stadtmusikanten
CATEGORIES:Ensemble Concierto Iberico
ATTACH;FMTTYPE=image/jpeg:https://leasuter.com/wp-content/uploads/2021/11/cropped-Concierto-Iberico-.jpg
END:VEVENT
BEGIN:VEVENT
DTSTART;TZID=Europe/Berlin:20230325T170000
DTEND;TZID=Europe/Berlin:20230325T190000
DTSTAMP:20260423T044833
CREATED:20230303T153010Z
LAST-MODIFIED:20230303T153010Z
UID:2775-1679763600-1679770800@leasuter.com
SUMMARY:Konzert StattReise - Die Bremer Stadtmusikanten 2.0
DESCRIPTION:Rauchzeichen aus dem Tabakquartier \nMusikalisch wird dieses Event abgerundet mit einem Programm rund um den Genuss. \nDer Schwerpunkt der Musik liegt an diesen besonderen Anlässen\, wie Hochzeiten oder Geschäftsmahlzeiten\, aber auch jenen inspirierenden Moment\, bei denen Zigaretten als geselliges Genussmittel betrachtet wird. \nUmgesetzt wird die Musik vom renomierten Ensemble Concierto Ibérico und StattReisen Bremen. \nTeaser: https://youtu.be/tUHrGMlOtN4 \nKarten: https://www.stattreisen-bremen.de/stadtfuehrungen/thema/auflistung/inszenierte-fuehrungen/konzert-stattreise-rauchzeichen-aus-dem-tabakquartie.html \nMitwirkende\nKatharina Franz – Rundgangsleiterin\nInés Pina Pérez – Renaissance-Blockflöten\nJuan González Martínez – Renaissance-Posaune (Ltg.)\nMiguel Bellas – Spanische Gitarre\, Theorbe\nLea Suter – Cembalo\, Orgel\nPeter Kuhnsch – Perkussion
URL:https://leasuter.com/event/konzert-stattreise-die-bremer-stadtmusikanten-2-0-4/
LOCATION:alter Pförtereingang\, Hermann-Ritter-Straße\, Bremen
CATEGORIES:Ensemble Concierto Iberico
ATTACH;FMTTYPE=image/jpeg:https://leasuter.com/wp-content/uploads/2021/11/cropped-Concierto-Iberico-.jpg
END:VEVENT
END:VCALENDAR