BEGIN:VCALENDAR
VERSION:2.0
PRODID:-//Lea Suter: Cembalo, Orgel, Clavichord - ECPv6.15.17.1//NONSGML v1.0//EN
CALSCALE:GREGORIAN
METHOD:PUBLISH
X-WR-CALNAME:Lea Suter: Cembalo, Orgel, Clavichord
X-ORIGINAL-URL:https://leasuter.com
X-WR-CALDESC:Veranstaltungen für Lea Suter: Cembalo, Orgel, Clavichord
REFRESH-INTERVAL;VALUE=DURATION:PT1H
X-Robots-Tag:noindex
X-PUBLISHED-TTL:PT1H
BEGIN:VTIMEZONE
TZID:Europe/Berlin
BEGIN:DAYLIGHT
TZOFFSETFROM:+0100
TZOFFSETTO:+0200
TZNAME:CEST
DTSTART:20220327T010000
END:DAYLIGHT
BEGIN:STANDARD
TZOFFSETFROM:+0200
TZOFFSETTO:+0100
TZNAME:CET
DTSTART:20221030T010000
END:STANDARD
BEGIN:DAYLIGHT
TZOFFSETFROM:+0100
TZOFFSETTO:+0200
TZNAME:CEST
DTSTART:20230326T010000
END:DAYLIGHT
BEGIN:STANDARD
TZOFFSETFROM:+0200
TZOFFSETTO:+0100
TZNAME:CET
DTSTART:20231029T010000
END:STANDARD
BEGIN:DAYLIGHT
TZOFFSETFROM:+0100
TZOFFSETTO:+0200
TZNAME:CEST
DTSTART:20240331T010000
END:DAYLIGHT
BEGIN:STANDARD
TZOFFSETFROM:+0200
TZOFFSETTO:+0100
TZNAME:CET
DTSTART:20241027T010000
END:STANDARD
END:VTIMEZONE
BEGIN:VEVENT
DTSTART;TZID=Europe/Berlin:20230818T200000
DTEND;TZID=Europe/Berlin:20230818T200000
DTSTAMP:20260422T195924
CREATED:20230629T090856Z
LAST-MODIFIED:20230629T094345Z
UID:3226-1692388800-1692388800@leasuter.com
SUMMARY:Serenata
DESCRIPTION:C.P.E. Bach Sinfonie in C für Orchester\nG. Chr. Wagenseil Konzert für Posaune Es-Dur und Orchester\nC.P.E. Bach Konzert für Cembalo in g und Orchester Wq 6\nL. Mozart Konzert für Posaune in D und Orchester \nElbipolis Barockorchester Hamburg\nLea Suter: Cembalo\nJuan González Martínez: Posaune \nDie Konzerte werden gefördert durch:\nHollweg-Stiftung\, Niedersächsische Sparkassenstiftung\, Sparkasse LeerWittmund\, Landessparkasse zu Oldenburg \n„Leidenschaft für die regionale Musikgeschichte und Weltoffenheit schließen sich nicht aus“  \nSo lautet das Motto des Hamburger Barockorchesters Elbipolis. Unter der Leitung von Jürgen Gross bringt das Orchester zwei Solisten mit\, die gleichwohl für ihr musikalisches Feingefühl\, als auch für ihre wissenschaftliche Akribie gelobt werden. \nFür das Projekt mit der Serenata von Leopold Mozart sowie dem Cembalokonzert Wq 43 von Carl Philipp Emanuel Bach realisiert GlossArte ein Konzert\, wo Orchestermusiker selbst zu Solisten werden (Posaune\, Cembalo)\, selbst die Instrumente und den musikalischen Hintergrund der Musik\, sowie der Instrumente in sog. ImPuls-Konzerten vorstellen. Dem Publikum wird dabei das Eintauchen in die Welt der vergangenen Musizierweisen ermöglicht. \n„Der Glanz des Berliner Musiklebens entfaltete sich … nach 1744/45… mit über vierzig Instrumentalisten\, zählte die königliche Kapelle … zu den größten Orchester im Deutschen Sprachraum und mit bedeutenden Instrumentalisten und Komponisten\, wie Carl Philip Emanuel Bach gehörte sie bald zu den besten Orchestern.“ aus Leopold Mozart\, Riesenberger (2019)\, S. 267
URL:https://leasuter.com/event/serenata-solokonzerte-mit-glossarte-2/
LOCATION:Oldenburg\, Dreifaltigkeitskirche
CATEGORIES:Cembalo,Duo GlossArte,Orchester
ATTACH;FMTTYPE=image/jpeg:https://leasuter.com/wp-content/uploads/2023/06/RZ_Plakat_DuoGlossArte_A3_Pfade-1_page-0001-e1702285021915.jpg
END:VEVENT
END:VCALENDAR