BEGIN:VCALENDAR
VERSION:2.0
PRODID:-//Lea Suter: Cembalo, Orgel, Clavichord - ECPv6.15.17.1//NONSGML v1.0//EN
CALSCALE:GREGORIAN
METHOD:PUBLISH
X-WR-CALNAME:Lea Suter: Cembalo, Orgel, Clavichord
X-ORIGINAL-URL:https://leasuter.com
X-WR-CALDESC:Veranstaltungen für Lea Suter: Cembalo, Orgel, Clavichord
REFRESH-INTERVAL;VALUE=DURATION:PT1H
X-Robots-Tag:noindex
X-PUBLISHED-TTL:PT1H
BEGIN:VTIMEZONE
TZID:Europe/Berlin
BEGIN:DAYLIGHT
TZOFFSETFROM:+0100
TZOFFSETTO:+0200
TZNAME:CEST
DTSTART:20230326T010000
END:DAYLIGHT
BEGIN:STANDARD
TZOFFSETFROM:+0200
TZOFFSETTO:+0100
TZNAME:CET
DTSTART:20231029T010000
END:STANDARD
BEGIN:DAYLIGHT
TZOFFSETFROM:+0100
TZOFFSETTO:+0200
TZNAME:CEST
DTSTART:20240331T010000
END:DAYLIGHT
BEGIN:STANDARD
TZOFFSETFROM:+0200
TZOFFSETTO:+0100
TZNAME:CET
DTSTART:20241027T010000
END:STANDARD
BEGIN:DAYLIGHT
TZOFFSETFROM:+0100
TZOFFSETTO:+0200
TZNAME:CEST
DTSTART:20250330T010000
END:DAYLIGHT
BEGIN:STANDARD
TZOFFSETFROM:+0200
TZOFFSETTO:+0100
TZNAME:CET
DTSTART:20251026T010000
END:STANDARD
END:VTIMEZONE
BEGIN:VEVENT
DTSTART;TZID=Europe/Berlin:20241011T190000
DTEND;TZID=Europe/Berlin:20241011T190000
DTSTAMP:20260421T182417
CREATED:20240903T120948Z
LAST-MODIFIED:20240903T120948Z
UID:3526-1728673200-1728673200@leasuter.com
SUMMARY:Ensaladas - Gesundheit zum Hören
DESCRIPTION:Gesunde Ernährung ist heute in aller Munde – bei Ihnen hoffentlich auch?! \nIm Spanien des 16. Jahrhunderts jedenfalls war das so\, als die musikalische Gattung der Ensalada (dt.: Salat) erfunden wurde — ein Mischmasch bekannter Melodien\, Lieder in vielen Sprachen\, geistlich und weltlich\, dramatisch und feierlich\, beliebt bei jung und alt\, reich und arm. Kurz: Ein bunter Salat für Jedermann\, gespielt landauf und landab\, in Kneipen und Palästen. \nMit diesem Programm zeigt Concerto Ibérico\, dass diese großartigen Salate bis heute nichts von ihrer Appetitlichkeit verloren haben — und bringt Ihnen gesunde Ernährung dabei auf ganz neue Weise nahe. \nVerpassen Sie nicht die Premiere in Lübeck: Tickets \nConcierto Ibérico \nCarmen Callejas – Sopran \nOriol Guimera – Altus \nAndrés Montilla-Acurero – Tenor \nBreno Quinderé – Bass \nClément Gester – Zink \nInés Pina Pérez – Blockflöte \nJuan González Martínez – Barockposaune (Ltg.) \nClemens Schlemmer – Dulzian \nLea Suter – Orgel \nGuilherme Barroso – Spanische Gitarre\, Vihuela \nHannes Malkowski – Perkussion \nIn Kooperation mit dem Verein Freundschafts- und Partnerschaftsverein Scharbeutz – Navajas e.V. &\nder Deutsch-Ibero-Amerikanischen Gesellschaft Lübeck e.V. \nGefördert von: Hollweg-Stiftung\, Possehl-Stiftung
URL:https://leasuter.com/event/ensaladas-gesundheit-zum-hoeren/
LOCATION:Lübeck\, Haus Eden
CATEGORIES:Ensemble Concierto Iberico
ATTACH;FMTTYPE=image/jpeg:https://leasuter.com/wp-content/uploads/2024/05/24022_0340-1-3.jpg
END:VEVENT
END:VCALENDAR