BEGIN:VCALENDAR
VERSION:2.0
PRODID:-//Lea Suter: Cembalo, Orgel, Clavichord - ECPv6.15.17.1//NONSGML v1.0//EN
CALSCALE:GREGORIAN
METHOD:PUBLISH
X-WR-CALNAME:Lea Suter: Cembalo, Orgel, Clavichord
X-ORIGINAL-URL:https://leasuter.com
X-WR-CALDESC:Veranstaltungen für Lea Suter: Cembalo, Orgel, Clavichord
REFRESH-INTERVAL;VALUE=DURATION:PT1H
X-Robots-Tag:noindex
X-PUBLISHED-TTL:PT1H
BEGIN:VTIMEZONE
TZID:Europe/Berlin
BEGIN:DAYLIGHT
TZOFFSETFROM:+0100
TZOFFSETTO:+0200
TZNAME:CEST
DTSTART:20230326T010000
END:DAYLIGHT
BEGIN:STANDARD
TZOFFSETFROM:+0200
TZOFFSETTO:+0100
TZNAME:CET
DTSTART:20231029T010000
END:STANDARD
BEGIN:DAYLIGHT
TZOFFSETFROM:+0100
TZOFFSETTO:+0200
TZNAME:CEST
DTSTART:20240331T010000
END:DAYLIGHT
BEGIN:STANDARD
TZOFFSETFROM:+0200
TZOFFSETTO:+0100
TZNAME:CET
DTSTART:20241027T010000
END:STANDARD
BEGIN:DAYLIGHT
TZOFFSETFROM:+0100
TZOFFSETTO:+0200
TZNAME:CEST
DTSTART:20250330T010000
END:DAYLIGHT
BEGIN:STANDARD
TZOFFSETFROM:+0200
TZOFFSETTO:+0100
TZNAME:CET
DTSTART:20251026T010000
END:STANDARD
END:VTIMEZONE
BEGIN:VEVENT
DTSTART;TZID=Europe/Berlin:20241026T190000
DTEND;TZID=Europe/Berlin:20241026T190000
DTSTAMP:20260421T181611
CREATED:20240716T133357Z
LAST-MODIFIED:20240716T133811Z
UID:3513-1729969200-1729969200@leasuter.com
SUMMARY:Dallo splendore di Venezia
DESCRIPTION:»Dallo splendore di Venezia – Die (Klang-) Farben der Liebe « \nMusikalische Liebeserklärungen aus Venedig zu Matthias Weckmanns 350. Todestag \nDas Weckmann-Consort spielt zu Matthias Weckmanns 350. Todestag dessen Lieblingsmusik: In »Die (Klang-) Farben der Liebe« erklingen Werke aus Venedig\, der Stadt der Liebe\, und aus dem Umfeld der Venezianischen Schule. \nMit ihrer ungewöhnlichen und sehr farbenreichen Besetzung (Sopran\, Zink\, Violine\, Posaunen\, Theorbe und Orgel) zeichnen die Musiker dabei einerseits die Entwicklung der Venezianischen Kompositionsschule von Adrian Willaert über Giovanni Gabrieli bis Claudio Monteverdi nach\, zeigen andererseits\, wie diese Schule anfänglich von jenseits der Alpen inspiriert wurde\, wie sie ihrerseits später nordeuropäische Komponisten wie etwa Matthias Weckmann beeinflusste. \nUnd was läge angesichts dieser neuen Kompositionsweise mit ihren kontrastreichen Ausdrucksmöglichkeiten näher\, als die Liebe in all ihren Facetten zum roten Faden dieses Programms zu machen? \n  \nFreuen Sie sich also auf einen farbenfrohen Abend mit venezianischem Flair — der Sie nicht nur über eine der einflussreichsten Schulen der Musikgeschichte aufklärt\, sondern auch so manch pikantes Detail aus dem Liebesleben des 16. und 17. Jahrhunderts thematisiert … \nMalwine Nicolaus – Sopran \nCarla Linné – Violine \nJosquin Piguet – Zink \nJuan Gonzalez Martinez – Posaune \nClemens Schlemmer – Dulzian \nJohannes Gontarski – Theorbe \nLea Suter – Orgel und Leitung
URL:https://leasuter.com/event/dallo-splendore-di-venezia-4/
LOCATION:Ruchow\, Kirche
CATEGORIES:Weckmann-Consort
ATTACH;FMTTYPE=image/jpeg:https://leasuter.com/wp-content/uploads/2022/09/cropped-Probeaufnahmen-in-Ganderkesee-14-scaled-2.jpg
END:VEVENT
END:VCALENDAR