BEGIN:VCALENDAR
VERSION:2.0
PRODID:-//Lea Suter: Cembalo, Orgel, Clavichord - ECPv6.15.17.1//NONSGML v1.0//EN
CALSCALE:GREGORIAN
METHOD:PUBLISH
X-WR-CALNAME:Lea Suter: Cembalo, Orgel, Clavichord
X-ORIGINAL-URL:https://leasuter.com
X-WR-CALDESC:Veranstaltungen für Lea Suter: Cembalo, Orgel, Clavichord
REFRESH-INTERVAL;VALUE=DURATION:PT1H
X-Robots-Tag:noindex
X-PUBLISHED-TTL:PT1H
BEGIN:VTIMEZONE
TZID:Europe/Berlin
BEGIN:DAYLIGHT
TZOFFSETFROM:+0100
TZOFFSETTO:+0200
TZNAME:CEST
DTSTART:20230326T010000
END:DAYLIGHT
BEGIN:STANDARD
TZOFFSETFROM:+0200
TZOFFSETTO:+0100
TZNAME:CET
DTSTART:20231029T010000
END:STANDARD
BEGIN:DAYLIGHT
TZOFFSETFROM:+0100
TZOFFSETTO:+0200
TZNAME:CEST
DTSTART:20240331T010000
END:DAYLIGHT
BEGIN:STANDARD
TZOFFSETFROM:+0200
TZOFFSETTO:+0100
TZNAME:CET
DTSTART:20241027T010000
END:STANDARD
BEGIN:DAYLIGHT
TZOFFSETFROM:+0100
TZOFFSETTO:+0200
TZNAME:CEST
DTSTART:20250330T010000
END:DAYLIGHT
BEGIN:STANDARD
TZOFFSETFROM:+0200
TZOFFSETTO:+0100
TZNAME:CET
DTSTART:20251026T010000
END:STANDARD
END:VTIMEZONE
BEGIN:VEVENT
DTSTART;TZID=Europe/Berlin:20241207T170000
DTEND;TZID=Europe/Berlin:20241207T170000
DTSTAMP:20260421T150009
CREATED:20241205T191239Z
LAST-MODIFIED:20241205T191403Z
UID:3564-1733590800-1733590800@leasuter.com
SUMMARY:ADVENTS "LESSONS AND CAROLS" aus der englischen Tradition 
DESCRIPTION:Kantorei der St. Martini-Kirche Bremen-Lesum \nLeitung: Matt Glandorf \nEin Adventsgottesdienst bei Kerzenlicht mit Liedern und Carols für Chor. \nWerke von Hildegard von Bingen\, Palestrina\, Weir\, Distler\, Rutter\, Stanford und Ešenvalds Vokalensemble der St Martini Kirche Die Capella der St. Martini Kirche Lea Suter – Organistin \nMatthew Glandorf – Leitung \n 
URL:https://leasuter.com/event/advents-lessons-and-carols-aus-der-englischen-tradition/
LOCATION:Bremen-Lesum\, St. Martini Kirche
CATEGORIES:Orgelkonzert
ATTACH;FMTTYPE=image/jpeg:https://leasuter.com/wp-content/uploads/2023/04/MG_66871-scaled.jpg
END:VEVENT
END:VCALENDAR