BEGIN:VCALENDAR
VERSION:2.0
PRODID:-//Lea Suter: Cembalo, Orgel, Clavichord - ECPv6.15.17.1//NONSGML v1.0//EN
CALSCALE:GREGORIAN
METHOD:PUBLISH
X-ORIGINAL-URL:https://leasuter.com
X-WR-CALDESC:Veranstaltungen für Lea Suter: Cembalo, Orgel, Clavichord
REFRESH-INTERVAL;VALUE=DURATION:PT1H
X-Robots-Tag:noindex
X-PUBLISHED-TTL:PT1H
BEGIN:VTIMEZONE
TZID:Europe/Berlin
BEGIN:DAYLIGHT
TZOFFSETFROM:+0100
TZOFFSETTO:+0200
TZNAME:CEST
DTSTART:20240331T010000
END:DAYLIGHT
BEGIN:STANDARD
TZOFFSETFROM:+0200
TZOFFSETTO:+0100
TZNAME:CET
DTSTART:20241027T010000
END:STANDARD
BEGIN:DAYLIGHT
TZOFFSETFROM:+0100
TZOFFSETTO:+0200
TZNAME:CEST
DTSTART:20250330T010000
END:DAYLIGHT
BEGIN:STANDARD
TZOFFSETFROM:+0200
TZOFFSETTO:+0100
TZNAME:CET
DTSTART:20251026T010000
END:STANDARD
BEGIN:DAYLIGHT
TZOFFSETFROM:+0100
TZOFFSETTO:+0200
TZNAME:CEST
DTSTART:20260329T010000
END:DAYLIGHT
BEGIN:STANDARD
TZOFFSETFROM:+0200
TZOFFSETTO:+0100
TZNAME:CET
DTSTART:20261025T010000
END:STANDARD
END:VTIMEZONE
BEGIN:VEVENT
DTSTART;TZID=Europe/Berlin:20250206T190000
DTEND;TZID=Europe/Berlin:20250206T190000
DTSTAMP:20260421T115004
CREATED:20241215T124002Z
LAST-MODIFIED:20241215T124002Z
UID:3778-1738868400-1738868400@leasuter.com
SUMMARY:Cembalokonzert "Aus dem Notenbüchlein von Anna Magdalena Bach" 1725
DESCRIPTION:Johann Sebastian Bach \nSuite in a BWV 827 \nSuite in e BWV 830
URL:https://leasuter.com/event/cembalokonzert-aus-dem-notenbuechlein-von-anna-magdalena-bach-1725/
LOCATION:Bremen\, St. Petri Dom
CATEGORIES:Cembalo
ATTACH;FMTTYPE=image/jpeg:https://leasuter.com/wp-content/uploads/2022/01/pict-034-scaled.jpg
END:VEVENT
END:VCALENDAR