BEGIN:VCALENDAR
VERSION:2.0
PRODID:-//Lea Suter: Cembalo, Orgel, Clavichord - ECPv6.15.17.1//NONSGML v1.0//EN
CALSCALE:GREGORIAN
METHOD:PUBLISH
X-ORIGINAL-URL:https://leasuter.com
X-WR-CALDESC:Veranstaltungen für Lea Suter: Cembalo, Orgel, Clavichord
REFRESH-INTERVAL;VALUE=DURATION:PT1H
X-Robots-Tag:noindex
X-PUBLISHED-TTL:PT1H
BEGIN:VTIMEZONE
TZID:Europe/Berlin
BEGIN:DAYLIGHT
TZOFFSETFROM:+0100
TZOFFSETTO:+0200
TZNAME:CEST
DTSTART:20240331T010000
END:DAYLIGHT
BEGIN:STANDARD
TZOFFSETFROM:+0200
TZOFFSETTO:+0100
TZNAME:CET
DTSTART:20241027T010000
END:STANDARD
BEGIN:DAYLIGHT
TZOFFSETFROM:+0100
TZOFFSETTO:+0200
TZNAME:CEST
DTSTART:20250330T010000
END:DAYLIGHT
BEGIN:STANDARD
TZOFFSETFROM:+0200
TZOFFSETTO:+0100
TZNAME:CET
DTSTART:20251026T010000
END:STANDARD
BEGIN:DAYLIGHT
TZOFFSETFROM:+0100
TZOFFSETTO:+0200
TZNAME:CEST
DTSTART:20260329T010000
END:DAYLIGHT
BEGIN:STANDARD
TZOFFSETFROM:+0200
TZOFFSETTO:+0100
TZNAME:CET
DTSTART:20261025T010000
END:STANDARD
END:VTIMEZONE
BEGIN:VEVENT
DTSTART;TZID=Europe/Berlin:20250409T120000
DTEND;TZID=Europe/Berlin:20250409T120000
DTSTAMP:20260419T232954
CREATED:20250324T172458Z
LAST-MODIFIED:20250324T172458Z
UID:4190-1744200000-1744200000@leasuter.com
SUMMARY:Trombone et Corno
DESCRIPTION:Michael Haydn\, Konzert für Posaune\, Horn und Orchester \nLeopold Mozart\, Konzert für Posaune und Orchester \nJoseph Haydn\, Konzert für Horn und Orchester \nMitwirkende: \nBritta Schäfer – historisches Horn \nDuo GlossArte\nJuan Gonzalez Martinez – historische Posaune\nLea Suter – Orgel \n 
URL:https://leasuter.com/event/trombone-et-corno/
LOCATION:Tønsberg domkirke
CATEGORIES:Duo GlossArte,Orgelkonzert
ATTACH;FMTTYPE=image/jpeg:https://leasuter.com/wp-content/uploads/2021/11/Weckmann-Consort.jpg
END:VEVENT
END:VCALENDAR