BEGIN:VCALENDAR
VERSION:2.0
PRODID:-//Lea Suter: Cembalo, Orgel, Clavichord - ECPv6.15.17.1//NONSGML v1.0//EN
CALSCALE:GREGORIAN
METHOD:PUBLISH
X-WR-CALNAME:Lea Suter: Cembalo, Orgel, Clavichord
X-ORIGINAL-URL:https://leasuter.com
X-WR-CALDESC:Veranstaltungen für Lea Suter: Cembalo, Orgel, Clavichord
REFRESH-INTERVAL;VALUE=DURATION:PT1H
X-Robots-Tag:noindex
X-PUBLISHED-TTL:PT1H
BEGIN:VTIMEZONE
TZID:Europe/Berlin
BEGIN:DAYLIGHT
TZOFFSETFROM:+0100
TZOFFSETTO:+0200
TZNAME:CEST
DTSTART:20240331T010000
END:DAYLIGHT
BEGIN:STANDARD
TZOFFSETFROM:+0200
TZOFFSETTO:+0100
TZNAME:CET
DTSTART:20241027T010000
END:STANDARD
BEGIN:DAYLIGHT
TZOFFSETFROM:+0100
TZOFFSETTO:+0200
TZNAME:CEST
DTSTART:20250330T010000
END:DAYLIGHT
BEGIN:STANDARD
TZOFFSETFROM:+0200
TZOFFSETTO:+0100
TZNAME:CET
DTSTART:20251026T010000
END:STANDARD
BEGIN:DAYLIGHT
TZOFFSETFROM:+0100
TZOFFSETTO:+0200
TZNAME:CEST
DTSTART:20260329T010000
END:DAYLIGHT
BEGIN:STANDARD
TZOFFSETFROM:+0200
TZOFFSETTO:+0100
TZNAME:CET
DTSTART:20261025T010000
END:STANDARD
END:VTIMEZONE
BEGIN:VEVENT
DTSTART;TZID=Europe/Berlin:20250425T193000
DTEND;TZID=Europe/Berlin:20250425T193000
DTSTAMP:20260419T232704
CREATED:20250401T201512Z
LAST-MODIFIED:20250401T201512Z
UID:4204-1745609400-1745609400@leasuter.com
SUMMARY:Fiestas de Primavera
DESCRIPTION:Ein Konzert gegen Frühjahrsmüdigkeit \nFrühling: Das ist eine globale Erscheinung\, die aber in verschiedenen Weltregionen ganz\nunterschiedlich wahrgenommen und gelebt wird. Während wir im kühlen Norden nämlich in stiller Andacht über zarten Blüten und ersten Marienkäfern meditieren\, wird der Frühling in vielen Ländern des Südens traditionell etwas lauter begrüßt: Mit Tanz und Straßenfesten\, mitreißenden Rhythmen und feurigen Liebesliedern — und oft auch ziemlich viel Pyrotechnik… \nEine Kostprobe gefällig?\nGut\, auf die Pyrotechnik müssen wir\, das Ensemble Concierto Ibérico\, aus Brandschutzgründen leider verzichten. Aber davon abgesehen versprechen wir Ihnen in unserem Programm mit Musik aus dem Italien und Spanien der Renaissance und des Frühbarock einen sehr authentischen Eindruck südländischer Frühlings- und Festfreude. Und wir verraten Ihnen dabei auch noch mit Flöte\, Gitarre\, Posaune\, Theorbe\, Cembalo und Orgel\, wie Sie einen sonnigen Frühlingstag als kleinen Ausstieg aus dem Alltag zelebrieren können — um Ihrer Frühjahrsmüdigkeit dabei erbarmungslos den Garaus zu machen! \n  \nMitwirkende \nInés Pina Pérez – Renaissance-Blockflöten\nJuan González Martínez – Renaissance-Posaune (Ltg.)\nMiguel Bellas – Spanische Gitarre\, Theorbe\nLea Suter – Orgel\nPeter Kuhnsch – Perkussion \n 
URL:https://leasuter.com/event/fiestas-de-primavera/
LOCATION:Oldenburg\, Dreifaltigkeitskirche
CATEGORIES:Ensemble Concierto Iberico
ATTACH;FMTTYPE=image/jpeg:https://leasuter.com/wp-content/uploads/2024/05/24022_0340-1-3.jpg
END:VEVENT
END:VCALENDAR