BEGIN:VCALENDAR
VERSION:2.0
PRODID:-//Lea Suter: Cembalo, Orgel, Clavichord - ECPv6.15.17.1//NONSGML v1.0//EN
CALSCALE:GREGORIAN
METHOD:PUBLISH
X-WR-CALNAME:Lea Suter: Cembalo, Orgel, Clavichord
X-ORIGINAL-URL:https://leasuter.com
X-WR-CALDESC:Veranstaltungen für Lea Suter: Cembalo, Orgel, Clavichord
REFRESH-INTERVAL;VALUE=DURATION:PT1H
X-Robots-Tag:noindex
X-PUBLISHED-TTL:PT1H
BEGIN:VTIMEZONE
TZID:Europe/Berlin
BEGIN:DAYLIGHT
TZOFFSETFROM:+0100
TZOFFSETTO:+0200
TZNAME:CEST
DTSTART:20240331T010000
END:DAYLIGHT
BEGIN:STANDARD
TZOFFSETFROM:+0200
TZOFFSETTO:+0100
TZNAME:CET
DTSTART:20241027T010000
END:STANDARD
BEGIN:DAYLIGHT
TZOFFSETFROM:+0100
TZOFFSETTO:+0200
TZNAME:CEST
DTSTART:20250330T010000
END:DAYLIGHT
BEGIN:STANDARD
TZOFFSETFROM:+0200
TZOFFSETTO:+0100
TZNAME:CET
DTSTART:20251026T010000
END:STANDARD
BEGIN:DAYLIGHT
TZOFFSETFROM:+0100
TZOFFSETTO:+0200
TZNAME:CEST
DTSTART:20260329T010000
END:DAYLIGHT
BEGIN:STANDARD
TZOFFSETFROM:+0200
TZOFFSETTO:+0100
TZNAME:CET
DTSTART:20261025T010000
END:STANDARD
END:VTIMEZONE
BEGIN:VEVENT
DTSTART;TZID=Europe/Berlin:20250626T200000
DTEND;TZID=Europe/Berlin:20250626T200000
DTSTAMP:20260420T025515
CREATED:20250617T092947Z
LAST-MODIFIED:20250617T093102Z
UID:4431-1750968000-1750968000@leasuter.com
SUMMARY:Sonnengesang und Psalmen Davids
DESCRIPTION:Sofia Gubaidulina (1931–2025): Sonnengesang \nHeinrich Schütz (1585–1672): Psalmen Davids. Gesang der drei Männer im feurigen Ofen \nTanja Tetzlaff\, Violoncello\nOlaf Tzschoppe und Hsin Lee\, Schlagzeug \nWeckmann-Consort\nJosquin Piguet – Zink (Cornettino)\nCarla Linné – Barockvioline\nJuan González Martínez – Barockposaune (Alt\, Tenor)\nMaximilian Brisson – Barockposaune\nClemens Schlemmer – Dulzian\nLea Suter – Orgel \nBremer Domchor\nLeitung: Tobias Gravenhorst
URL:https://leasuter.com/event/sonnengesang-und-psalmen-davids/
LOCATION:Dom\, Bremen\, Sandstrasse 10-12\, Bremen
CATEGORIES:Weckmann-Consort
ATTACH;FMTTYPE=image/jpeg:https://leasuter.com/wp-content/uploads/2022/09/cropped-Probeaufnahmen-in-Ganderkesee-14-scaled-2.jpg
END:VEVENT
END:VCALENDAR