BEGIN:VCALENDAR
VERSION:2.0
PRODID:-//Lea Suter: Cembalo, Orgel, Clavichord - ECPv6.15.17.1//NONSGML v1.0//EN
CALSCALE:GREGORIAN
METHOD:PUBLISH
X-WR-CALNAME:Lea Suter: Cembalo, Orgel, Clavichord
X-ORIGINAL-URL:https://leasuter.com
X-WR-CALDESC:Veranstaltungen für Lea Suter: Cembalo, Orgel, Clavichord
REFRESH-INTERVAL;VALUE=DURATION:PT1H
X-Robots-Tag:noindex
X-PUBLISHED-TTL:PT1H
BEGIN:VTIMEZONE
TZID:Europe/Berlin
BEGIN:DAYLIGHT
TZOFFSETFROM:+0100
TZOFFSETTO:+0200
TZNAME:CEST
DTSTART:20240331T010000
END:DAYLIGHT
BEGIN:STANDARD
TZOFFSETFROM:+0200
TZOFFSETTO:+0100
TZNAME:CET
DTSTART:20241027T010000
END:STANDARD
BEGIN:DAYLIGHT
TZOFFSETFROM:+0100
TZOFFSETTO:+0200
TZNAME:CEST
DTSTART:20250330T010000
END:DAYLIGHT
BEGIN:STANDARD
TZOFFSETFROM:+0200
TZOFFSETTO:+0100
TZNAME:CET
DTSTART:20251026T010000
END:STANDARD
BEGIN:DAYLIGHT
TZOFFSETFROM:+0100
TZOFFSETTO:+0200
TZNAME:CEST
DTSTART:20260329T010000
END:DAYLIGHT
BEGIN:STANDARD
TZOFFSETFROM:+0200
TZOFFSETTO:+0100
TZNAME:CET
DTSTART:20261025T010000
END:STANDARD
END:VTIMEZONE
BEGIN:VEVENT
DTSTART;TZID=Europe/Berlin:20250830T170000
DTEND;TZID=Europe/Berlin:20250830T170000
DTSTAMP:20260420T060119
CREATED:20250811T123255Z
LAST-MODIFIED:20250811T123255Z
UID:4552-1756573200-1756573200@leasuter.com
SUMMARY:#wien
DESCRIPTION:#wien\n\n\nMatthias Weckmann hat vermutlich im Zusammenhang mit der Erlangung des Bürgerrechtes im Domrempter der Jakobikirche Hamburg das Recht bekommen\, mit seinem Collegium Musicum jeden Donnerstag »die besten Sachen aus Venedig\, Rom\, Wien\, München\, Dresden &c.« aufzuführen\, so hat es Johann Mattheson 1740 überliefert. Eine Art Konzertreihe für alle Gesellschaftsschichten\, bei der neben ambitionierten Laien – gemessen an den technischen Herausforderungen der Werke – auch hochprofessionelle Musiker auftraten. \nDer Jakobi-Organist komponierte 1663 zehn Sonaten für eben dieses Collegium Musicum für Zink\, Violine\, Posaune\, Dulzian und Orgel\, nach dessen Vorbild sich das Weckmann-Consort gründete\, mit dem Ziel seine Sonaten zu spielen und die hochvirtuosen Spieltechniken der historischen Instrumente wiederzubeleben. \nZu seinem fünf-jährigen Bestehen möchte nun das Weckmann-Consort diese anspruchsvollen\, selten gespielten Sonaten in einer fünf-teiligen Konzertreihe kombiniert mit den besten Sachen aus Venedig\, Rom\, Wien\, München und Dresden aufführen und wie zu Weckmanns Zeiten einem vielschichtigen Publikum näherbringen. \nSo wie Weckmann die besten Sachen aus den Metropolen Europas nach Hamburg holte\, möchten wir die Besten Sachen – neu entdeckt – ins Konzert bringen. \nWien: Das ist für uns nicht nur Walzer\, Mozart\, Haydn und Beethoven. Nein\, unser Wien — das sind auch Giovanni Felice Sances oder Antonio Cesti als kaiserliche Hofkapellmeister\, oder Musiker wie Heinrich Ignaz Franz von Biber und Francesco Rognoni\, die zwar an anderen österreichischen Höfen wirkten\, den diversen Kaisern oder Erzbischöfen in Wien aber zahlreiche Werke widmeten. Kurz: Unser Wien sind zwar durchaus auch die Zuckerl der Wiener Klassik\, aber vor allem das Schlagobers aus Spätrenaissance und (Früh-) Barock! Und so laden wir unsere Hörer bei diesem Programm ein\, zu erfahren\, was unser Namensgeber\, der Hamburger Jakobiorganist Matthias Weckmann\, sich unter „den besten Sachen“ aus Wien vorgestellt hat — und was sich das musikaffine Völkchen der Wiener selbst vor vier- bis fünfhundert Jahren so alles auf der Zunge zergehen ließ. Oder sagen wir besser: womit es seine Seele nährte … \nWeckmann-Consort \nLea Suter – Orgel und Leitung\nJuan González – Barockposaune\nCarla Linné – Barockvioline\nJosquin Piguet – Zink\nClemmens Schlemmer – Dulzian \nDaniel Seminara – Theorbe\nAnna Bachleitner – Gesang
URL:https://leasuter.com/event/wien/
LOCATION:Ruchow\, Kirche
CATEGORIES:Weckmann-Consort
ATTACH;FMTTYPE=image/jpeg:https://leasuter.com/wp-content/uploads/2025/07/25031_0031-scaled.jpg
END:VEVENT
END:VCALENDAR