BEGIN:VCALENDAR
VERSION:2.0
PRODID:-//Lea Suter: Cembalo, Orgel, Clavichord - ECPv6.15.17.1//NONSGML v1.0//EN
CALSCALE:GREGORIAN
METHOD:PUBLISH
X-WR-CALNAME:Lea Suter: Cembalo, Orgel, Clavichord
X-ORIGINAL-URL:https://leasuter.com
X-WR-CALDESC:Veranstaltungen für Lea Suter: Cembalo, Orgel, Clavichord
REFRESH-INTERVAL;VALUE=DURATION:PT1H
X-Robots-Tag:noindex
X-PUBLISHED-TTL:PT1H
BEGIN:VTIMEZONE
TZID:Europe/Berlin
BEGIN:DAYLIGHT
TZOFFSETFROM:+0100
TZOFFSETTO:+0200
TZNAME:CEST
DTSTART:20240331T010000
END:DAYLIGHT
BEGIN:STANDARD
TZOFFSETFROM:+0200
TZOFFSETTO:+0100
TZNAME:CET
DTSTART:20241027T010000
END:STANDARD
BEGIN:DAYLIGHT
TZOFFSETFROM:+0100
TZOFFSETTO:+0200
TZNAME:CEST
DTSTART:20250330T010000
END:DAYLIGHT
BEGIN:STANDARD
TZOFFSETFROM:+0200
TZOFFSETTO:+0100
TZNAME:CET
DTSTART:20251026T010000
END:STANDARD
BEGIN:DAYLIGHT
TZOFFSETFROM:+0100
TZOFFSETTO:+0200
TZNAME:CEST
DTSTART:20260329T010000
END:DAYLIGHT
BEGIN:STANDARD
TZOFFSETFROM:+0200
TZOFFSETTO:+0100
TZNAME:CET
DTSTART:20261025T010000
END:STANDARD
END:VTIMEZONE
BEGIN:VEVENT
DTSTART;TZID=Europe/Berlin:20250919T190000
DTEND;TZID=Europe/Berlin:20250919T190000
DTSTAMP:20260420T074720
CREATED:20250419T114650Z
LAST-MODIFIED:20250419T114650Z
UID:4359-1758308400-1758308400@leasuter.com
SUMMARY:Arabeske
DESCRIPTION:Im tänzerischen Dialog mit Al-Andalus \nIn Musik\, Tanz und Poesie erzählen wir in diesem Programm Geschichten aus Al-Andalus\, dem von den Mauren beherrschten Spanien des Mittelalters: von der Schönheit maurischer Prinzessinnen oder der Vollmondnächte in der Alhambra\, vom Palast der Freude oder den Dolmetschern von Toledo. \nVom 8. bis zum 15. Jahrhundert nämlich beherrschten die Mauren einen großen Teil der iberischen Halbinsel\, und so mussten Christen\, Muslime und Juden hier notwendigerweise irgendwie koexistieren. Diese Koexistenz verlief naturgemäß nicht gänzlich konfliktfrei\, aber es gab doch immer wieder lange Perioden echten Friedens\, geprägt von Toleranz und Respekt unter den Religionsgruppen\, abgesichert von Verträgen und Bündnissen — und so werden diese Jahrhunderte der Maurenherrschaft von Historikern oder Philologen denn auch gerne als »Das Wunder von Al-Andalus« bezeichnet. \nUnd überraschenderweise war es dann gerade das Miteinander der Kulturen\, das eine besondere Blüte der Wissenschaften und Künste hervorbrachte\, die ihresgleichen suchte — ein Miteinander\, das Bauwerke wie die Alhambra\, feinsinnigste Poesie und mitreißendste Musik erst ermöglichte —\, und das eine besondere Festkultur hervorbrachte\, in der Musik\, Tanz und Poesie unbedingt zusammengehörten! \nAn dieser Blüte möchten wir die Besucher unserer Konzerte nun teilhaben lassen. Freuen Sie sich also auf ein Fest voller Musik — von der Renaissance-Moresca bis zu Ravels Bolero —\, freuen Sie sich auf den Erzählkünstler John Rogers mit hispano-maurischen Geschichten von Goethe\, Irving und Nasruddin\, und freuen Sie sich auf die faszinierenden Tanzdarbietungen von Dani Niemietz\, die dieses Miteinander der Kulturen in Tanzstilen von Bauchtanz bis zeitgenössischen Tanz über Flamenco Dialect umsetzen wird. Kurz: Erleben Sie in unserem Programm das Wunder von acht Jahrhunderten Zusammenlebens dreier Kulturen in drei Künsten! \nMitwirkende\nDani Niemietz – Tanz\nJohn Rogers – Storytelling\nInés Pina Pérez – Barock-Blockflöten\nJuan González Martínez – Barock-Posaunen (Ltg.)\nRunar Kjeldsberg – Spanische Gitarre\, Theorbe\nLea Suter – 16-Fuss-Cembalo\nHannes Malkowski – Perkussion
URL:https://leasuter.com/event/arabeske-5/
LOCATION:Kultursaal Arbeitnehmerkammer\, Bremen
CATEGORIES:Ensemble Concierto Iberico
ATTACH;FMTTYPE=image/jpeg:https://leasuter.com/wp-content/uploads/2025/04/Concierto-Iberico-Tanz-1-c-Elisa-Meyer-Arabeske.jpg
END:VEVENT
END:VCALENDAR