BEGIN:VCALENDAR
VERSION:2.0
PRODID:-//Lea Suter: Cembalo, Orgel, Clavichord - ECPv6.15.17.1//NONSGML v1.0//EN
CALSCALE:GREGORIAN
METHOD:PUBLISH
X-WR-CALNAME:Lea Suter: Cembalo, Orgel, Clavichord
X-ORIGINAL-URL:https://leasuter.com
X-WR-CALDESC:Veranstaltungen für Lea Suter: Cembalo, Orgel, Clavichord
REFRESH-INTERVAL;VALUE=DURATION:PT1H
X-Robots-Tag:noindex
X-PUBLISHED-TTL:PT1H
BEGIN:VTIMEZONE
TZID:Europe/Berlin
BEGIN:DAYLIGHT
TZOFFSETFROM:+0100
TZOFFSETTO:+0200
TZNAME:CEST
DTSTART:20240331T010000
END:DAYLIGHT
BEGIN:STANDARD
TZOFFSETFROM:+0200
TZOFFSETTO:+0100
TZNAME:CET
DTSTART:20241027T010000
END:STANDARD
BEGIN:DAYLIGHT
TZOFFSETFROM:+0100
TZOFFSETTO:+0200
TZNAME:CEST
DTSTART:20250330T010000
END:DAYLIGHT
BEGIN:STANDARD
TZOFFSETFROM:+0200
TZOFFSETTO:+0100
TZNAME:CET
DTSTART:20251026T010000
END:STANDARD
BEGIN:DAYLIGHT
TZOFFSETFROM:+0100
TZOFFSETTO:+0200
TZNAME:CEST
DTSTART:20260329T010000
END:DAYLIGHT
BEGIN:STANDARD
TZOFFSETFROM:+0200
TZOFFSETTO:+0100
TZNAME:CET
DTSTART:20261025T010000
END:STANDARD
END:VTIMEZONE
BEGIN:VEVENT
DTSTART;TZID=Europe/Berlin:20251019T170000
DTEND;TZID=Europe/Berlin:20251019T170000
DTSTAMP:20260420T093308
CREATED:20250727T110049Z
LAST-MODIFIED:20250727T115442Z
UID:4491-1760893200-1760893200@leasuter.com
SUMMARY:Cantigas y Romanceros
DESCRIPTION:Klangfarben der Wehmut \n  \nEs war eine selige Zeit\, das alte Al-Andalus\, als auf der iberischen Halbinsel Christen\, Muslime und Juden vom 8. bis zum 15. Jahrhundert relativ friedlich zusammenlebten. Eine „Kultur der Vielen“\, nannte der Schriftsteller und Lebenskünstler Federico Garcia Lorca diese Mixtur\, als er vor etwa 100 Jahren seine berühmte Gedichtsammlung Romancero Gitano veröffentlichte\, in der er genau dieser kulturellen Durchmischung seines Heimatlandes Spanien in symbolistischer und oft surrealer Weise huldigt. \nVon dieser Sammlung ließen wir uns inspirieren\, ein Programm mit spanischen Cantigas und Romanceros aus 900 Jahren Musikgeschichte zusammenzustellen\, vom 13. Jahrhundert bis heute. Und in diesen Liedern und Balladen\, aber auch in von einem Erzählkünstler vorgetragenen Geschichten und in von uns in Auftrag gegebenen Liedern des jüdischen Komponisten Udi Perlmann (*1990)\, verfolgen wir die dramatische Zeit des Niedergangs des alten Al-Andalus nach der Eroberung von Granada durch die christlich-spanischen Truppen 1492\, die Geschichte der Vertreibung der sephardischen Juden von der iberischen Halbinsel\, die Geschichte von Kämpfen der Religionen\, von Verfolgung und Vernichtung. \n  \nUnd so verschmilzt in Cantigas y Romanceros wieder\, was in Al-Andalus zusammengehörte: Religionen\, Künste\, Kulturen\, Jahrhunderte … \nMitwirkende\nJuan González Martínez – Barock-Posaunen (Ltg.)\nInés Pina Pérez – Barock-Blockflöten\nRunar Kjeldsberg – Spanische Gitarre\, Theorbe\nLea Suter – 16-Fuss-Cembalo\nHannes Malkowski – Perkussion \nUdi Perlman – Komposition \nJohn Rogers – Storytelling \nEinat Aornstein – Gesang
URL:https://leasuter.com/event/cantigas-y-romanceros-2/
LOCATION:Hannover\, Marktkirche
CATEGORIES:Ensemble Concierto Iberico
ATTACH;FMTTYPE=image/jpeg:https://leasuter.com/wp-content/uploads/2025/07/Gitarre-24022_0119-klein-1.jpg
END:VEVENT
END:VCALENDAR