BEGIN:VCALENDAR
VERSION:2.0
PRODID:-//Lea Suter: Cembalo, Orgel, Clavichord - ECPv6.15.17.1//NONSGML v1.0//EN
CALSCALE:GREGORIAN
METHOD:PUBLISH
X-WR-CALNAME:Lea Suter: Cembalo, Orgel, Clavichord
X-ORIGINAL-URL:https://leasuter.com
X-WR-CALDESC:Veranstaltungen für Lea Suter: Cembalo, Orgel, Clavichord
REFRESH-INTERVAL;VALUE=DURATION:PT1H
X-Robots-Tag:noindex
X-PUBLISHED-TTL:PT1H
BEGIN:VTIMEZONE
TZID:Europe/Berlin
BEGIN:DAYLIGHT
TZOFFSETFROM:+0100
TZOFFSETTO:+0200
TZNAME:CEST
DTSTART:20200329T010000
END:DAYLIGHT
BEGIN:STANDARD
TZOFFSETFROM:+0200
TZOFFSETTO:+0100
TZNAME:CET
DTSTART:20201025T010000
END:STANDARD
BEGIN:DAYLIGHT
TZOFFSETFROM:+0100
TZOFFSETTO:+0200
TZNAME:CEST
DTSTART:20210328T010000
END:DAYLIGHT
BEGIN:STANDARD
TZOFFSETFROM:+0200
TZOFFSETTO:+0100
TZNAME:CET
DTSTART:20211031T010000
END:STANDARD
BEGIN:DAYLIGHT
TZOFFSETFROM:+0100
TZOFFSETTO:+0200
TZNAME:CEST
DTSTART:20220327T010000
END:DAYLIGHT
BEGIN:STANDARD
TZOFFSETFROM:+0200
TZOFFSETTO:+0100
TZNAME:CET
DTSTART:20221030T010000
END:STANDARD
END:VTIMEZONE
BEGIN:VEVENT
DTSTART;TZID=Europe/Berlin:20211212T110000
DTEND;TZID=Europe/Berlin:20211212T110000
DTSTAMP:20260424T014607
CREATED:20211101T224648Z
LAST-MODIFIED:20211124T142028Z
UID:1580-1639306800-1639306800@leasuter.com
SUMMARY:Winterzauber 12.12.21
DESCRIPTION:Bremer Philharmoniker\nEdvard Grieg (1843–1907)\nSchauspielmusik zu „Peer Gynt“ op. 23\n(Orgel)
URL:https://leasuter.com/event/winterzauber/
LOCATION:Bremen-Glocke
END:VEVENT
BEGIN:VEVENT
DTSTART;TZID=Europe/Berlin:20211213T193000
DTEND;TZID=Europe/Berlin:20211213T193000
DTSTAMP:20260424T014607
CREATED:20211101T224802Z
LAST-MODIFIED:20211214T095739Z
UID:1583-1639423800-1639423800@leasuter.com
SUMMARY:Winterzauber ABGESAGT
DESCRIPTION:Bremer Philharmoniker\nEdvard Grieg (1843–1907)\nSchauspielmusik zu „Peer Gynt“ op. 23\n(Orgel)
URL:https://leasuter.com/event/winterzauber-2/
LOCATION:Bremen-Glocke
END:VEVENT
BEGIN:VEVENT
DTSTART;TZID=Europe/Berlin:20211214T193000
DTEND;TZID=Europe/Berlin:20211214T193000
DTSTAMP:20260424T014607
CREATED:20211101T224828Z
LAST-MODIFIED:20211215T174652Z
UID:1585-1639510200-1639510200@leasuter.com
SUMMARY:Winterzaubern ABGESAGT
DESCRIPTION:Bremer Philharmoniker\nEdvard Grieg (1843–1907)\nSchauspielmusik zu „Peer Gynt“ op. 23\n(Orgel)
URL:https://leasuter.com/event/winterzauber-3/
LOCATION:Bremen-Glocke
END:VEVENT
BEGIN:VEVENT
DTSTART;VALUE=DATE:20211230
DTEND;VALUE=DATE:20211231
DTSTAMP:20260424T014607
CREATED:20211127T130556Z
LAST-MODIFIED:20211214T095809Z
UID:1836-1640822400-1640908799@leasuter.com
SUMMARY:Praetorius Christmette ABGESAGT
DESCRIPTION:Mit Posaunen\, Zinken\, Violinen\, Sänger und Schnitgerorgel\nLeitung: Thorsten Ahlrichs
URL:https://leasuter.com/event/30-12-21-praetorius-christmette/
LOCATION:Ganderkesee\, St. Cyprian- und Cornelius Kirche
END:VEVENT
END:VCALENDAR