BEGIN:VCALENDAR
VERSION:2.0
PRODID:-//Lea Suter: Cembalo, Orgel, Clavichord - ECPv6.15.17.1//NONSGML v1.0//EN
CALSCALE:GREGORIAN
METHOD:PUBLISH
X-WR-CALNAME:Lea Suter: Cembalo, Orgel, Clavichord
X-ORIGINAL-URL:https://leasuter.com
X-WR-CALDESC:Veranstaltungen für Lea Suter: Cembalo, Orgel, Clavichord
REFRESH-INTERVAL;VALUE=DURATION:PT1H
X-Robots-Tag:noindex
X-PUBLISHED-TTL:PT1H
BEGIN:VTIMEZONE
TZID:Europe/Berlin
BEGIN:DAYLIGHT
TZOFFSETFROM:+0100
TZOFFSETTO:+0200
TZNAME:CEST
DTSTART:20210328T010000
END:DAYLIGHT
BEGIN:STANDARD
TZOFFSETFROM:+0200
TZOFFSETTO:+0100
TZNAME:CET
DTSTART:20211031T010000
END:STANDARD
BEGIN:DAYLIGHT
TZOFFSETFROM:+0100
TZOFFSETTO:+0200
TZNAME:CEST
DTSTART:20220327T010000
END:DAYLIGHT
BEGIN:STANDARD
TZOFFSETFROM:+0200
TZOFFSETTO:+0100
TZNAME:CET
DTSTART:20221030T010000
END:STANDARD
BEGIN:DAYLIGHT
TZOFFSETFROM:+0100
TZOFFSETTO:+0200
TZNAME:CEST
DTSTART:20230326T010000
END:DAYLIGHT
BEGIN:STANDARD
TZOFFSETFROM:+0200
TZOFFSETTO:+0100
TZNAME:CET
DTSTART:20231029T010000
END:STANDARD
END:VTIMEZONE
BEGIN:VEVENT
DTSTART;TZID=Europe/Berlin:20220612T170000
DTEND;TZID=Europe/Berlin:20220612T170000
DTSTAMP:20260423T170717
CREATED:20220306T143717Z
LAST-MODIFIED:20220306T144046Z
UID:2119-1655053200-1655053200@leasuter.com
SUMMARY:12. Juni\, St. Urban (Schweiz) - Klosterkirche
DESCRIPTION:Cantabo Domino\nWeckmann-Consort
URL:https://leasuter.com/event/12-juni-st-urban-schweiz-klosterkirche/
CATEGORIES:Weckmann-Consort
END:VEVENT
BEGIN:VEVENT
DTSTART;TZID=Europe/Berlin:20220619T170000
DTEND;TZID=Europe/Berlin:20220619T170000
DTSTAMP:20260423T170717
CREATED:20220306T143832Z
LAST-MODIFIED:20220306T144025Z
UID:2121-1655658000-1655658000@leasuter.com
SUMMARY:19. Juni\, Bremen - Waller Kirche
DESCRIPTION:Musica e vino\nWeckmann-Consort
URL:https://leasuter.com/event/19-juni-bremen-waller-kirche/
CATEGORIES:Weckmann-Consort
END:VEVENT
BEGIN:VEVENT
DTSTART;TZID=Europe/Berlin:20220625T193000
DTEND;TZID=Europe/Berlin:20220625T193000
DTSTAMP:20260423T170717
CREATED:20220306T145215Z
LAST-MODIFIED:20220306T145350Z
UID:2135-1656185400-1656185400@leasuter.com
SUMMARY:25. Juni\, Bremen - Glocke
DESCRIPTION:Träume in Tönen: Von der romantischen Violine\, \nMechthild Karkow – romantische Violine\,\nLea Suter – Orgel \nDie Barockgeigerin Mechthild Karkow zählt zu den vielseitigsten Spezialistinnen im Bereich der Historischen Aufführungspraxis und wurde 2020 als Professorin für historische Violine an die Hochschule für Künste Bremen berufen. Ihr Repertoire reicht vom Ende des 16. bis zum Beginn des 20. Jahrhunderts und schließt auch zeitgenössische Kompositionen für Barockvioline\, Barockviola und Viola d’amore mit ein. Die Auseinandersetzung mit historischen Quellen\, die Verwendung dem Repertoire entsprechender Instrumente\, Bögen\, Spieltechniken und Spielhaltungen sind für sie dabei selbstverständlich und eine Bereicherung ihrer stilistisch differenzierten und lebendigen Interpretationen.\nGemeinsam mit der Organistin Lea Suter\, Initiatorin dieser Konzertreihe\, bringt sie in diesem Programm Werke von Rheinberger\, Bach-Mendelssohn\, Olsson und anderen zum Klingen. Die weichen Farben der spätromantischen Sauer-Orgel der Glocke\, gepaart mit den süßen Tönen der Violine\, versprechen dabei ein kurzweiliges Konzerterlebnis\, das zum Schwelgen in den historischen Klängen ebenso einlädt wie zum Träumen.
URL:https://leasuter.com/event/25-juni-bremen-glocke/
LOCATION:Bremen\, Glocke
END:VEVENT
END:VCALENDAR