BEGIN:VCALENDAR
VERSION:2.0
PRODID:-//Lea Suter: Cembalo, Orgel, Clavichord - ECPv6.15.17.1//NONSGML v1.0//EN
CALSCALE:GREGORIAN
METHOD:PUBLISH
X-ORIGINAL-URL:https://leasuter.com
X-WR-CALDESC:Veranstaltungen für Lea Suter: Cembalo, Orgel, Clavichord
REFRESH-INTERVAL;VALUE=DURATION:PT1H
X-Robots-Tag:noindex
X-PUBLISHED-TTL:PT1H
BEGIN:VTIMEZONE
TZID:Europe/Berlin
BEGIN:DAYLIGHT
TZOFFSETFROM:+0100
TZOFFSETTO:+0200
TZNAME:CEST
DTSTART:20210328T010000
END:DAYLIGHT
BEGIN:STANDARD
TZOFFSETFROM:+0200
TZOFFSETTO:+0100
TZNAME:CET
DTSTART:20211031T010000
END:STANDARD
BEGIN:DAYLIGHT
TZOFFSETFROM:+0100
TZOFFSETTO:+0200
TZNAME:CEST
DTSTART:20220327T010000
END:DAYLIGHT
BEGIN:STANDARD
TZOFFSETFROM:+0200
TZOFFSETTO:+0100
TZNAME:CET
DTSTART:20221030T010000
END:STANDARD
BEGIN:DAYLIGHT
TZOFFSETFROM:+0100
TZOFFSETTO:+0200
TZNAME:CEST
DTSTART:20230326T010000
END:DAYLIGHT
BEGIN:STANDARD
TZOFFSETFROM:+0200
TZOFFSETTO:+0100
TZNAME:CET
DTSTART:20231029T010000
END:STANDARD
END:VTIMEZONE
BEGIN:VEVENT
DTSTART;TZID=Europe/Berlin:20220803T210000
DTEND;TZID=Europe/Berlin:20220803T210000
DTSTAMP:20260423T135716
CREATED:20220306T144446Z
LAST-MODIFIED:20220616T083355Z
UID:2127-1659560400-1659560400@leasuter.com
SUMMARY:3. August\, Sanzeno (Italien)
DESCRIPTION:Orgelkonzert im Rahmen der Smarano-Orgelakademie 2022
URL:https://leasuter.com/event/3-august-sanzeno-italien/
END:VEVENT
BEGIN:VEVENT
DTSTART;TZID=Europe/Berlin:20220809T180000
DTEND;TZID=Europe/Berlin:20220809T180000
DTSTAMP:20260423T135716
CREATED:20220306T144725Z
LAST-MODIFIED:20220808T071550Z
UID:2129-1660068000-1660068000@leasuter.com
SUMMARY:9. August\, Langenthal (Schweiz) - Zwinglihaus
DESCRIPTION:Clavichordkonzert \n„Von der Freyen Fantasie“\nWerke von Johann Sebastian Bach und Carl Philipp Emanuel Bach
URL:https://leasuter.com/event/9-august-langenthal-schweiz-zwinglihaus/
LOCATION:Zwinglihaus\, Langenthal
END:VEVENT
BEGIN:VEVENT
DTSTART;TZID=Europe/Berlin:20220811T190000
DTEND;TZID=Europe/Berlin:20220811T190000
DTSTAMP:20260423T135716
CREATED:20220306T144920Z
LAST-MODIFIED:20221207T084858Z
UID:2132-1660244400-1660244400@leasuter.com
SUMMARY:11. August\, Fafleralp (Schweiz)
DESCRIPTION:Clavichordkonzert \n„Von der Freyen Fantasie“\nWerke von Johann Sebastian Bach und Carl Philipp Emanuel Bach
URL:https://leasuter.com/event/11-august-fafleralp-schweiz/
LOCATION:Fafleralp (Wallis)\, Kirche
END:VEVENT
BEGIN:VEVENT
DTSTART;TZID=Europe/Berlin:20220827T180000
DTEND;TZID=Europe/Berlin:20220827T180000
DTSTAMP:20260423T135716
CREATED:20220723T074033Z
LAST-MODIFIED:20220723T074033Z
UID:2438-1661623200-1661623200@leasuter.com
SUMMARY:27. August\, Orchester Sturm und Drang\, Wahrenbrück-Kirche
DESCRIPTION:Sinfonien und Solokonzerte von\nJohann Gottlieb Graun\, Wilhelm Friedemann Bach\, Carl Friedrich Abel und Georg Anton Benda \nSolistinnen: Kristen Huebner (Flauto traverso)\, Iris Maron (Violine)\, Nora Hansen (Fagott)\, Lea Suter (Cembalo)\nOrchester Sturm und Drang\nDirigent: Fabian Enders
URL:https://leasuter.com/event/27-august-orchester-sturm-und-drang-wahrenbrueck-kirche/
LOCATION:Wahrenbrück\, Kirche
CATEGORIES:Orchester
ATTACH;FMTTYPE=image/jpeg:https://leasuter.com/wp-content/uploads/2022/01/cropped-pict-083-scaled-1.jpg
END:VEVENT
END:VCALENDAR