BEGIN:VCALENDAR
VERSION:2.0
PRODID:-//Lea Suter: Cembalo, Orgel, Clavichord - ECPv6.15.17.1//NONSGML v1.0//EN
CALSCALE:GREGORIAN
METHOD:PUBLISH
X-ORIGINAL-URL:https://leasuter.com
X-WR-CALDESC:Veranstaltungen für Lea Suter: Cembalo, Orgel, Clavichord
REFRESH-INTERVAL;VALUE=DURATION:PT1H
X-Robots-Tag:noindex
X-PUBLISHED-TTL:PT1H
BEGIN:VTIMEZONE
TZID:Europe/Berlin
BEGIN:DAYLIGHT
TZOFFSETFROM:+0100
TZOFFSETTO:+0200
TZNAME:CEST
DTSTART:20220327T010000
END:DAYLIGHT
BEGIN:STANDARD
TZOFFSETFROM:+0200
TZOFFSETTO:+0100
TZNAME:CET
DTSTART:20221030T010000
END:STANDARD
BEGIN:DAYLIGHT
TZOFFSETFROM:+0100
TZOFFSETTO:+0200
TZNAME:CEST
DTSTART:20230326T010000
END:DAYLIGHT
BEGIN:STANDARD
TZOFFSETFROM:+0200
TZOFFSETTO:+0100
TZNAME:CET
DTSTART:20231029T010000
END:STANDARD
BEGIN:DAYLIGHT
TZOFFSETFROM:+0100
TZOFFSETTO:+0200
TZNAME:CEST
DTSTART:20240331T010000
END:DAYLIGHT
BEGIN:STANDARD
TZOFFSETFROM:+0200
TZOFFSETTO:+0100
TZNAME:CET
DTSTART:20241027T010000
END:STANDARD
END:VTIMEZONE
BEGIN:VEVENT
DTSTART;VALUE=DATE:20230331
DTEND;VALUE=DATE:20230403
DTSTAMP:20260423T013807
CREATED:20230211T161728Z
LAST-MODIFIED:20230211T161936Z
UID:2704-1680220800-1680479999@leasuter.com
SUMMARY:Workshop „Schütz in Italien“ Erleben\, Erproben\, Erlernen
DESCRIPTION:Vom Freitag\, 31. März ab 17 Uhr bis zum Sonntag\, 02. April 2023 lädt der Posaunenchor der Christusgemeinde in Sinntal und Marjoß in Kooperation mit dem Posaunenwerk der Evangelischen Kirche von Kurhessen-Waldeck zu einem Workshop in der Kirchenmusikakademie Schlüchtern ein. Der Schwerpunkt liegt in der Alten Musik: \n„Mehrchörige Musik für Bläser — Schütz in Italien“ \nDer Kurs richtet sich an motivierte Laienmusiker und professionelle Musiker\, die sich für Alte Musik interessieren.\nDie Themen des Kurses werden in fünf Workshopeinheiten von den Mitgliedern des Weckmann-Consorts unter der Leitung von Juan González Martínez unterrichtet: \n· historische Spielweise\n· Rhethorik und Affekt\n· Verzierungskunst und alte Notation \nIn unterschiedlich großen Besetzungen erarbeiten wir Musik von Heinrich Schütz und seinem Lehrer Giovanni Gabrieli\, um die Mehrchörigkeit zu erleben\, erproben und erlernen.\nDie generationenübergreifende Instrumentenbaufirma Ewald Meinl stellt für dieses Wochenende drei Barockposaunen (Alt\, Tenor und Bass) zur Verfügung.\nDie Spezialisten der Alten Musik des Weckmann-Consorts unterrichten die Kursteilnehmer im Workshop: \nJuan González Martínez — Barockposaune\nMarshall Lamohr — Barockposaune\nArno Paduch — Zink\nMasafumi Sakamoto — Barockposaune\nLea Suter — Orgel\nNach einen zwei tägigen Workshop\, findet ein gemeinsames Abschlusskonzert mit mehrchöriger Musik statt. \nAnmeldung unter: https://posaunenwerk.kirchenmusik-ekkw.de
URL:https://leasuter.com/event/workshop-schuetz-in-italien-erleben-erproben-erlernen/
LOCATION:Kirchenmusikakademie\, Schlüchtern
CATEGORIES:Weckmann-Consort
END:VEVENT
BEGIN:VEVENT
DTSTART;TZID=Europe/Berlin:20230401T193000
DTEND;TZID=Europe/Berlin:20230401T193000
DTSTAMP:20260423T013807
CREATED:20230211T162910Z
LAST-MODIFIED:20230211T163030Z
UID:2710-1680377400-1680377400@leasuter.com
SUMMARY:Schütz in Italien
DESCRIPTION:Mit Musik von den italienischen und deutschen Meistern der Barockmusik rund um Heinrich Schütz. \nArno Paduch — Zink\nJuan González Martínez — Barockposaune\nMarshall Lamohr — Barockposaune\nMasafumi Sakamoto — Barockposaune\nLea Suter — Orgel
URL:https://leasuter.com/event/monteverdi-marienvesper/
LOCATION:St. Bonifatiuskirche\, Schlüchtern
CATEGORIES:Weckmann-Consort
END:VEVENT
BEGIN:VEVENT
DTSTART;TZID=Europe/Berlin:20230412T120000
DTEND;TZID=Europe/Berlin:20230412T120000
DTSTAMP:20260423T013807
CREATED:20221213T182238Z
LAST-MODIFIED:20230211T154903Z
UID:2636-1681300800-1681300800@leasuter.com
SUMMARY:Cembalokonzert
DESCRIPTION:Werke von Bach und Buxtehude auf dem 16-Fuss-Cembalo.
URL:https://leasuter.com/event/fantasia/
LOCATION:Haga Kirche\, Göteborg
CATEGORIES:Cembalo
END:VEVENT
BEGIN:VEVENT
DTSTART;TZID=Europe/Berlin:20230413T190000
DTEND;TZID=Europe/Berlin:20230413T190000
DTSTAMP:20260423T013807
CREATED:20230208T213444Z
LAST-MODIFIED:20230211T154635Z
UID:2683-1681412400-1681412400@leasuter.com
SUMMARY:Clavichordkonzert
DESCRIPTION:Werke von Johann Sebastian Bach und Carl Philipp Emanuel Bach \n„A studio concert at Sockerbruket (the Carnegie Warehouses) in the  Göteborg Harbor“ \nPlatzzahl beschränkt\, bitte um Anmeldung unter: joel.speerstra@hsm.gu.se
URL:https://leasuter.com/event/von-der-freyen-fantasie/
LOCATION:the Carnegie Warehouses\, Sockerbruket 17\, Göteborg\, Schweden
END:VEVENT
BEGIN:VEVENT
DTSTART;TZID=Europe/Berlin:20230414T120000
DTEND;TZID=Europe/Berlin:20230414T120000
DTSTAMP:20260423T013807
CREATED:20230208T213317Z
LAST-MODIFIED:20230211T154811Z
UID:2680-1681473600-1681473600@leasuter.com
SUMMARY:Orgelkonzert
DESCRIPTION:Werke von Bach\, Alain und Schumann
URL:https://leasuter.com/event/fantasia-2/
LOCATION:Domkyrkan\, Göteborg
CATEGORIES:Orgelkonzert
END:VEVENT
BEGIN:VEVENT
DTSTART;TZID=Europe/Berlin:20230415T190000
DTEND;TZID=Europe/Berlin:20230415T190000
DTSTAMP:20260423T013807
CREATED:20230211T163747Z
LAST-MODIFIED:20230211T163854Z
UID:2714-1681585200-1681585200@leasuter.com
SUMMARY:Clavichordkonzert
DESCRIPTION:Werke von Johann Sebastian Bach und Carl Philipp Emanuel Bach \nKlavikordkonsert med Lea Suter. Klavikord var et vanlig instrument på Bach sin tid og en av forgjengerne til det moderne pianoet. Lea Suter fra Tyskland har spesialisert seg på dette instrumentet og er på turné i Norden i april 2023. Hun holder intimkonsert på vigselskapellet i Strømsø kirke med musikk av Johann Sebastian og Carl Philip Emanuel Bach. Gratis inngang.
URL:https://leasuter.com/event/clavichordkonzert/
LOCATION:Strømsø kirke\, Dramman
END:VEVENT
BEGIN:VEVENT
DTSTART;TZID=Europe/Berlin:20230423T170000
DTEND;TZID=Europe/Berlin:20230423T170000
DTSTAMP:20260423T013807
CREATED:20221203T135242Z
LAST-MODIFIED:20230211T154737Z
UID:2587-1682269200-1682269200@leasuter.com
SUMMARY:Clavichordkonzert
DESCRIPTION:Werke von Johann Sebastian Bach und Carl Philipp Emanuel Bach
URL:https://leasuter.com/event/23-april-worpswede/
LOCATION:Zionskirche\, Worpswede
END:VEVENT
END:VCALENDAR