BEGIN:VCALENDAR
VERSION:2.0
PRODID:-//Lea Suter: Cembalo, Orgel, Clavichord - ECPv6.15.17.1//NONSGML v1.0//EN
CALSCALE:GREGORIAN
METHOD:PUBLISH
X-ORIGINAL-URL:https://leasuter.com
X-WR-CALDESC:Veranstaltungen für Lea Suter: Cembalo, Orgel, Clavichord
REFRESH-INTERVAL;VALUE=DURATION:PT1H
X-Robots-Tag:noindex
X-PUBLISHED-TTL:PT1H
BEGIN:VTIMEZONE
TZID:Europe/Berlin
BEGIN:DAYLIGHT
TZOFFSETFROM:+0100
TZOFFSETTO:+0200
TZNAME:CEST
DTSTART:20220327T010000
END:DAYLIGHT
BEGIN:STANDARD
TZOFFSETFROM:+0200
TZOFFSETTO:+0100
TZNAME:CET
DTSTART:20221030T010000
END:STANDARD
BEGIN:DAYLIGHT
TZOFFSETFROM:+0100
TZOFFSETTO:+0200
TZNAME:CEST
DTSTART:20230326T010000
END:DAYLIGHT
BEGIN:STANDARD
TZOFFSETFROM:+0200
TZOFFSETTO:+0100
TZNAME:CET
DTSTART:20231029T010000
END:STANDARD
BEGIN:DAYLIGHT
TZOFFSETFROM:+0100
TZOFFSETTO:+0200
TZNAME:CEST
DTSTART:20240331T010000
END:DAYLIGHT
BEGIN:STANDARD
TZOFFSETFROM:+0200
TZOFFSETTO:+0100
TZNAME:CET
DTSTART:20241027T010000
END:STANDARD
END:VTIMEZONE
BEGIN:VEVENT
DTSTART;TZID=Europe/Berlin:20230702T170000
DTEND;TZID=Europe/Berlin:20230702T190000
DTSTAMP:20260422T200253
CREATED:20230525T122134Z
LAST-MODIFIED:20230525T122134Z
UID:3191-1688317200-1688324400@leasuter.com
SUMMARY:Tanzen und Springen
DESCRIPTION:Chor- & Instrumentalmusik aus Renaissance und Frühbarock \nSommerkonzert des Knabenchors Unser Lieben Frauen in Kooperation mit dem Bremer Ensemble Concierto Ibérico \nConcierto Ibérico ist ein Ensemble\, das sich mit Musik der Renaissance und des Barock beschäftigt und auf historischen Blas- und allerhand Instrumenten spielt. \nMit seiner Musik möchte das Ensemble den Kulturaustausch zwischen Spanien und dem übrigen Europa befördern\, der schon seit dem Siglo de Oro\, dem goldenen Zeitalter Spaniens von etwa Mitte des 16. bis Mitte des 17. Jahrhunderts\, bestand. Über die europäischen Grenzen hinaus vertiefen sie die künstlerische Auseinandersetzung mit den interkulturellen Einflüßen zwischen der iberischen Halbinsel und Lateinamerika\, Afrika und dem Nahen Osten\, um das Publikum in einem aktuellen interkulturellen Dialog der heutigen Zeit mit Klängen der Vergangenheit und der Gegenwart anzusprechen. \nDer Kna­ben­chor Unser Lie­ben Frauen Bre­men ist die älteste Kul­tur­ein­rich­tung sei­ner Hei­mat­stadt. Zwei­fel­los war es eine spek­ta­ku­läre Ent­de­ckung\, als erst kürz­lich bekannt wurde\, dass der Chor seine Wur­zeln bereits im 16. Jahr­hun­dert hat. Wenige Schritte nörd­lich von Unser Lie­ben Frauen stand das Katha­ri­nen-Klos­ter (Reste sind noch erhal­ten)\, das im Jahr 1528 auf Initia­tive Mar­tin Luthers in eine Latein­schule für Jun­gen umge­wan­delt wurde. Die Kan­to­ren der Schule waren Ange­stellte der Stadt und damit gleich­zei­tig für die gesamte Chor- und Instru­men­tal­mu­sik der Rats­kir­che Unser Lie­ben Frauen ver­ant­wort­lich. Hier hat der Kna­ben­chor der Schule unter Lei­tung des ers­ten Kan­tors Petrus täg­lich gesun­gen. \nSchule und Kna­ben­chor haben bis zum Beginn des 19. Jahr­hun­derts bestan­den. Zunächst als Latein­schule (Päd­ago­gium)\, spä­ter als aka­de­mi­sches Gym­na­sium (Gym­na­sium illus­tre)\, das Jungstu­den­ten aus ganz Eur­opa anzog. Die Ent­wick­lung im Ver­lauf des 19. Jahr­hun­derts ist noch nicht abschlie­ßend recher­chiert. Zunächst scheint es keine ver­gleich­bare Kna­ben­chor­a­r­beit mehr gege­ben zu haben. \nKarten 36 / 30 / 22 / 16 Euro inkl. Gebühren / Kinder 1 Euro\nKartenvorverkauf über Nordwest Ticket (u.a. Pressehaus Weser-Kurier\, Tel. 0421 – 36 36 36\,\nwww.nordwest-ticket.de)\, unter www.knabenchor-bremen.de\nund im Kapitel 8 an der Domsheide. Restkarten an der Abendkasse. \nMitwirkende\nKnabenchor Unser Lieben Frauen \nConcierto Ibérico \nAnna Schall – Zink\, Cornetto muto\nInés Pina Pérez – Renaissance-Blockflöten\nJuan González Martínez – Renaissance-Posaune\nHans Fröhlich – Dulzian\nJohannes Festerling – Spanische Gitarre\, Theorbe\nLea Suter – Cembalo\, Orgel\nHannes Malkowski – Perkussion \nLeitung: Ulrich Kaiser
URL:https://leasuter.com/event/tanzen-und-springen/
LOCATION:Bremen\, Unser Lieben Frauen Kirche
CATEGORIES:Ensemble Concierto Iberico
ATTACH;FMTTYPE=image/jpeg:https://leasuter.com/wp-content/uploads/2021/08/Concierto_Iberico-175_sm.jpg
END:VEVENT
END:VCALENDAR