BEGIN:VCALENDAR
VERSION:2.0
PRODID:-//Lea Suter: Cembalo, Orgel, Clavichord - ECPv6.15.17.1//NONSGML v1.0//EN
CALSCALE:GREGORIAN
METHOD:PUBLISH
X-WR-CALNAME:Lea Suter: Cembalo, Orgel, Clavichord
X-ORIGINAL-URL:https://leasuter.com
X-WR-CALDESC:Veranstaltungen für Lea Suter: Cembalo, Orgel, Clavichord
REFRESH-INTERVAL;VALUE=DURATION:PT1H
X-Robots-Tag:noindex
X-PUBLISHED-TTL:PT1H
BEGIN:VTIMEZONE
TZID:Europe/Berlin
BEGIN:DAYLIGHT
TZOFFSETFROM:+0100
TZOFFSETTO:+0200
TZNAME:CEST
DTSTART:20220327T010000
END:DAYLIGHT
BEGIN:STANDARD
TZOFFSETFROM:+0200
TZOFFSETTO:+0100
TZNAME:CET
DTSTART:20221030T010000
END:STANDARD
BEGIN:DAYLIGHT
TZOFFSETFROM:+0100
TZOFFSETTO:+0200
TZNAME:CEST
DTSTART:20230326T010000
END:DAYLIGHT
BEGIN:STANDARD
TZOFFSETFROM:+0200
TZOFFSETTO:+0100
TZNAME:CET
DTSTART:20231029T010000
END:STANDARD
BEGIN:DAYLIGHT
TZOFFSETFROM:+0100
TZOFFSETTO:+0200
TZNAME:CEST
DTSTART:20240331T010000
END:DAYLIGHT
BEGIN:STANDARD
TZOFFSETFROM:+0200
TZOFFSETTO:+0100
TZNAME:CET
DTSTART:20241027T010000
END:STANDARD
END:VTIMEZONE
BEGIN:VEVENT
DTSTART;TZID=Europe/Berlin:20231007T203000
DTEND;TZID=Europe/Berlin:20231007T203000
DTSTAMP:20260422T143426
CREATED:20231007T134757Z
LAST-MODIFIED:20231007T134757Z
UID:3254-1696710600-1696710600@leasuter.com
SUMMARY:Suite Cortesana
DESCRIPTION:Glosas del Siglo de Oro \nSuite Cortesana nos muestra un recorrido musical en el Siglo de Oro por el territorio español en tiempos de los Austrias mayores. El intercambio cultural a través de los continuos viajes del emperador Carlos V\, acompañado por sus músicos a través de toda Europa\, y el fervor de Felipe II por la música de tecla hizo de la corte musical de los Austrias una de las más punteras y refinadas en el panorama internacional. \nCompositores como el organista holandés J. P. Sweelinck o su alumno alemán S. Scheidt nos dedican algunas de sus obras inspiradas en las glosas de los grandes maestros de tecla como A. Martín y Coll\, F. C. de Arauxo y A. de Cabezón – este último\, organista de la corte de Carlos V\, Felipe II y precursor de la tradición musical ibérica de tecla. La viveza y espontaneidad de estas glosas o variaciones escritas en la voz del soprano o del tenor se prestan a ser interpretadas sin duda alguna en el sacabuche y otros instrumentos de viento (ministriles)\, como aconseja A. de Cabezón en sus Obras de música para tecla arpa y vihuela. Esta técnica compositiva contrasta con la variación original y a la vez virtuosa del milanés F. Rognoni\, basada en obras polifónicas existentes\, variando las distintas voces “a la bastarda”\, esto es; saltando de una a otra y describiendo líneas melódicas ricamente ornamentadas rozando las posibilidades técnicas de su intérprete. \n¡Déjense inspirar con estas glosas de la época de resplandor de los Austrias interpretadas al sacabuche y al clave con el mayor refinamiento musical! \nConcierto Ibérico \nJuan González Martínez – Sacabuche\nLea Suter – Clave
URL:https://leasuter.com/event/suite-cortesana/
LOCATION:Lorca\, Ermita San Lazaro
CATEGORIES:Ensemble Concierto Iberico
ATTACH;FMTTYPE=image/jpeg:https://leasuter.com/wp-content/uploads/2021/11/Weckmann-Consort.jpg
END:VEVENT
BEGIN:VEVENT
DTSTART;TZID=Europe/Berlin:20231019T190000
DTEND;TZID=Europe/Berlin:20231019T190000
DTSTAMP:20260422T143426
CREATED:20230912T110939Z
LAST-MODIFIED:20231013T061558Z
UID:3238-1697742000-1697742000@leasuter.com
SUMMARY:Monteverdi trifft Weckmann
DESCRIPTION:Claudio Monteverdi (1567-1643) war einer der bedeutendsten Musiker des 17. Jahrhunderts in Italien und prägend für eine ganze Generation von Komponisten in ganz Europa. Zu seinem 380. Jubiläumsjahr spielt das Weckmann-Consort ein Jubiläumskonzert. Das Weckmann-Consort spielt unter Berücksichtigung der neuesten Erkenntnissen der historischen Aufführungspraxis in einer gemischten Consort-Besetzung\, um ein Hörerlebnis in seinem Zusammenhang zu verwirklichen und tritt in der Besetzung mit Sängern\, Streichern und Bläsern auf\, so\, wie es zu Monteverdis Zeit üblich war. Gleichzeitig schaffen die Musiker eine Verbindung zu den norddeutschen Komponisten\, welche durch Studienreisen nach Italien stark von der italienischen Musizierweise beeinflusst sind. Das Weckmann-Consort wurde von der Musikerin und Orgelbauerin Lea Suter\, zusammen mit Juan Gonzalez Martinez (Barockposaune) gegründet. In der Auseinandersetzung mit historischen Instrumenten beschäftigen sich die Musiker mit dem Originalklang. \nWeckmann-Consort – Bremen\nBaiba Urku\, Sopran\nSönke Tams Freier\, Bass\nJosquin Piguet\, Zink\nCarla Line\, Barockvioline\nJuan Gonzalez Martinez\, Posaune\nYuka Mitani\, Posaune\nBernhard Reichel\, Theorbe\nLea Suter\, Orgel und künstlerische Leitung \ngefördert durch die Hollweg-Stiftung
URL:https://leasuter.com/event/weckmann-trifft-monteverdi/
LOCATION:Bremen\, St. Petri Dom
CATEGORIES:Weckmann-Consort
ATTACH;FMTTYPE=image/jpeg:https://leasuter.com/wp-content/uploads/2022/09/cropped-Probeaufnahmen-in-Ganderkesee-14-scaled-2.jpg
END:VEVENT
BEGIN:VEVENT
DTSTART;TZID=Europe/Berlin:20231020T190000
DTEND;TZID=Europe/Berlin:20231020T190000
DTSTAMP:20260422T143426
CREATED:20230912T111355Z
LAST-MODIFIED:20231013T061722Z
UID:3241-1697828400-1697828400@leasuter.com
SUMMARY:Monteverdi trifft Weckmann
DESCRIPTION:Claudio Monteverdi (1567-1643) war einer der bedeutendsten Musiker des 17. Jahrhunderts in Italien und prägend für eine ganze Generation von Komponisten in ganz Europa. Zu seinem 380. Jubiläumsjahr spielt das Weckmann-Consort ein Jubiläumskonzert. Das Weckmann-Consort spielt unter Berücksichtigung der neuesten Erkenntnissen der historischen Aufführungspraxis in einer gemischten Consort-Besetzung\, um ein Hörerlebnis in seinem Zusammenhang zu verwirklichen und tritt in der Besetzung mit Sängern\, Streichern und Bläsern auf\, so\, wie es zu Monteverdis Zeit üblich war. Gleichzeitig schaffen die Musiker eine Verbindung zu den norddeutschen Komponisten\, welche durch Studienreisen nach Italien stark von der italienischen Musizierweise beeinflusst sind. Das Weckmann-Consort wurde von der Musikerin und Orgelbauerin Lea Suter\, zusammen mit Juan Gonzalez Martinez (Barockposaune) gegründet. In der Auseinandersetzung mit historischen Instrumenten beschäftigen sich die Musiker mit dem Originalklang. \nWeckmann-Consort – Bremen\nBaiba Urku\, Sopran\nSönke Tams Freier\, Bass\nJosquin Piguet\, Zink\nCarla Line\, Barockvioline\nJuan Gonzalez Martinez\, Posaune\nYuka Mitani\, Posaune\nBernhard Reichel\, Theorbe\nLea Suter\, Orgel und künstlerische Leitung \ngefördert durch: \nHollweg-Stiftung und den Förderverein für die historische Orgel zu Ruchow
URL:https://leasuter.com/event/weckmann-trifft-monteverdi-2/
LOCATION:Ruchow\, Kirche
CATEGORIES:Weckmann-Consort
ATTACH;FMTTYPE=image/jpeg:https://leasuter.com/wp-content/uploads/2022/09/cropped-Probeaufnahmen-in-Ganderkesee-14-scaled-2.jpg
END:VEVENT
BEGIN:VEVENT
DTSTART;TZID=Europe/Berlin:20231021T140000
DTEND;TZID=Europe/Berlin:20231021T140000
DTSTAMP:20260422T143426
CREATED:20231013T054430Z
LAST-MODIFIED:20231013T054430Z
UID:3271-1697896800-1697896800@leasuter.com
SUMMARY:KonzertStattreise - Bremer Stadtmusikanten 2.0
DESCRIPTION:Die Bremer Stadtmusikanten 2.0 \nBei der Konzert-StattReise-Stadtmusikanten 2.0 bleibt kein Auge trocken. Mit der schwungvollen Musik des auf historischen Instrumenten musizierenden Ensembles Concierto Ibérico und den historischen Fakten und kuriosen Geschichten des Rundgangsleiters erleben die Teilnehmer bei Bremens erster konzertierender Stadtführung das alte Bremen ganz neu. Die vier jungen Musiker lassen die Musik der echten Stadtmusikanten vergangener Jahrhunderte wiederaufleben! \nTeaser: https://youtu.be/tUHrGMlOtN4 \nKarten: https://www.stattreisen-bremen.de/stadtfuehrungen/thema/auflistung/inszenierte-fuehrungen/musikalische-stadtfuehrung-stadtfuehrung-mit-konzert.html \nMitwirkende\nAndreas Calic – Rundgangsleiter\nConcierto Ibérico
URL:https://leasuter.com/event/konzertstattreise-bremer-stadtmusikanten-2-0/
LOCATION:Bremen\, Stadtmusikanten\, Schoppensteel
CATEGORIES:Ensemble Concierto Iberico
ATTACH;FMTTYPE=image/jpeg:https://leasuter.com/wp-content/uploads/2022/07/Concierto_Iberico-175_sm_07072022.jpg
END:VEVENT
BEGIN:VEVENT
DTSTART;TZID=Europe/Berlin:20231021T193000
DTEND;TZID=Europe/Berlin:20231021T193000
DTSTAMP:20260422T143426
CREATED:20230912T111739Z
LAST-MODIFIED:20231013T061952Z
UID:3245-1697916600-1697916600@leasuter.com
SUMMARY:Monteverdi trifft Weckmann
DESCRIPTION:Claudio Monteverdi (1567-1643) war einer der bedeutendsten Musiker des 17. Jahrhunderts in Italien und prägend für eine ganze Generation von Komponisten in ganz Europa. Zu seinem 380. Jubiläumsjahr spielt das Weckmann-Consort ein Jubiläumskonzert. Das Weckmann-Consort spielt unter Berücksichtigung der neuesten Erkenntnissen der historischen Aufführungspraxis in einer gemischten Consort-Besetzung\, um ein Hörerlebnis in seinem Zusammenhang zu verwirklichen und tritt in der Besetzung mit Sängern\, Streichern und Bläsern auf\, so\, wie es zu Monteverdis Zeit üblich war. Gleichzeitig schaffen die Musiker eine Verbindung zu den norddeutschen Komponisten\, welche durch Studienreisen nach Italien stark von der italienischen Musizierweise beeinflusst sind. Das Weckmann-Consort wurde von der Musikerin und Orgelbauerin Lea Suter\, zusammen mit Juan Gonzalez Martinez (Barockposaune) gegründet. In der Auseinandersetzung mit historischen Instrumenten beschäftigen sich die Musiker mit dem Originalklang. \nWeckmann-Consort – Bremen\nBaiba Urku\, Sopran\nSönke Tams Freier\, Bass\nJosquin Piguet\, Zink\nCarla Line\, Barockvioline\nJuan Gonzalez Martinez\, Posaune\nYuka Mitani\, Posaune\nBernhard Reichel\, Theorbe\nLea Suter\, Orgel und künstlerische Leitung \ngefördert durch: \nHollweg-Stiftung und den Landschaftsverband Stade
URL:https://leasuter.com/event/weckmann-trifft-monteverdi-3/
LOCATION:Dedesdorf\, St. Laurentius Kirche
CATEGORIES:Weckmann-Consort
ATTACH;FMTTYPE=image/jpeg:https://leasuter.com/wp-content/uploads/2022/09/cropped-Probeaufnahmen-in-Ganderkesee-14-scaled-2.jpg
END:VEVENT
BEGIN:VEVENT
DTSTART;TZID=Europe/Berlin:20231022T170000
DTEND;TZID=Europe/Berlin:20231022T170000
DTSTAMP:20260422T143426
CREATED:20230912T112119Z
LAST-MODIFIED:20231013T061806Z
UID:3247-1697994000-1697994000@leasuter.com
SUMMARY:Monteverdi trifft Weckmann
DESCRIPTION:Claudio Monteverdi (1567-1643) war einer der bedeutendsten Musiker des 17. Jahrhunderts in Italien und prägend für eine ganze Generation von Komponisten in ganz Europa. Zu seinem 380. Jubiläumsjahr spielt das Weckmann-Consort ein Jubiläumskonzert. Das Weckmann-Consort spielt unter Berücksichtigung der neuesten Erkenntnissen der historischen Aufführungspraxis in einer gemischten Consort-Besetzung\, um ein Hörerlebnis in seinem Zusammenhang zu verwirklichen und tritt in der Besetzung mit Sängern\, Streichern und Bläsern auf\, so\, wie es zu Monteverdis Zeit üblich war. Gleichzeitig schaffen die Musiker eine Verbindung zu den norddeutschen Komponisten\, welche durch Studienreisen nach Italien stark von der italienischen Musizierweise beeinflusst sind. Das Weckmann-Consort wurde von der Musikerin und Orgelbauerin Lea Suter\, zusammen mit Juan Gonzalez Martinez (Barockposaune) gegründet. In der Auseinandersetzung mit historischen Instrumenten beschäftigen sich die Musiker mit dem Originalklang. \nWeckmann-Consort – Bremen\nBaiba Urku\, Sopran\nSönke Tams Freier\, Bass\nJosquin Piguet\, Zink\nCarla Line\, Barockvioline\nJuan Gonzalez Martinez\, Posaune\nYuka Mitani\, Posaune\nBernhard Reichel\, Theorbe\nLea Suter\, Orgel und künstlerische Leitung \ngefördert durch: \nHollweg-Stiftung und den Landschaftsverband Stade
URL:https://leasuter.com/event/weckmann-trifft-monteverdi-4/
LOCATION:Zionskirche\, Worpswede
CATEGORIES:Weckmann-Consort
ATTACH;FMTTYPE=image/jpeg:https://leasuter.com/wp-content/uploads/2022/09/cropped-Probeaufnahmen-in-Ganderkesee-14-scaled-2.jpg
END:VEVENT
END:VCALENDAR