BEGIN:VCALENDAR
VERSION:2.0
PRODID:-//Lea Suter: Cembalo, Orgel, Clavichord - ECPv6.15.17.1//NONSGML v1.0//EN
CALSCALE:GREGORIAN
METHOD:PUBLISH
X-WR-CALNAME:Lea Suter: Cembalo, Orgel, Clavichord
X-ORIGINAL-URL:https://leasuter.com
X-WR-CALDESC:Veranstaltungen für Lea Suter: Cembalo, Orgel, Clavichord
REFRESH-INTERVAL;VALUE=DURATION:PT1H
X-Robots-Tag:noindex
X-PUBLISHED-TTL:PT1H
BEGIN:VTIMEZONE
TZID:Europe/Berlin
BEGIN:DAYLIGHT
TZOFFSETFROM:+0100
TZOFFSETTO:+0200
TZNAME:CEST
DTSTART:20230326T010000
END:DAYLIGHT
BEGIN:STANDARD
TZOFFSETFROM:+0200
TZOFFSETTO:+0100
TZNAME:CET
DTSTART:20231029T010000
END:STANDARD
BEGIN:DAYLIGHT
TZOFFSETFROM:+0100
TZOFFSETTO:+0200
TZNAME:CEST
DTSTART:20240331T010000
END:DAYLIGHT
BEGIN:STANDARD
TZOFFSETFROM:+0200
TZOFFSETTO:+0100
TZNAME:CET
DTSTART:20241027T010000
END:STANDARD
BEGIN:DAYLIGHT
TZOFFSETFROM:+0100
TZOFFSETTO:+0200
TZNAME:CEST
DTSTART:20250330T010000
END:DAYLIGHT
BEGIN:STANDARD
TZOFFSETFROM:+0200
TZOFFSETTO:+0100
TZNAME:CET
DTSTART:20251026T010000
END:STANDARD
END:VTIMEZONE
BEGIN:VEVENT
DTSTART;TZID=Europe/Berlin:20240305T193000
DTEND;TZID=Europe/Berlin:20240305T193000
DTSTAMP:20260422T060251
CREATED:20240218T211627Z
LAST-MODIFIED:20240218T211627Z
UID:3303-1709667000-1709667000@leasuter.com
SUMMARY:SCHLAGZEUG UND ORGEL – GEGENSÄTZE ZIEHEN SICH AN
DESCRIPTION:Leoš Janáček: Fanfare (1. Satz) aus Sinfonietta\nAlexander Borodin: »Polowetzer Tänze« aus »Fürst Igor«\nMaurice Ravel: »Rapsodie espagnole«\nEdward Grieg: »Norwegische Tänze« op. 35 \nGegensätze ziehen sich an — so heißt es in der Liebe. \nUnd vielleicht gilt das auch für die Musik: Denn wenn in diesem Programm Orgel und Schlagzeug aufeinandertreffen\, gewinnt man den Eindruck\, diese beiden doch so gegensätzlichen Instrumente seien von jeher füreinander bestimmt … \nErleben Sie in diesem Konzert also wunderbare Orchestermusik aus der Entstehungszeit der Glocke-Orgel\, von Olaf Tzschoppe arrangiert für Orgel und Schlagzeug\, und genießen Sie\, wie die satten\, spätromantischen Klänge mit diesen Instrumenten in völlig neuem Gewand erglänzen! \nOlaf Tzschoppe Schlagzeug\nLea Suter Orgel
URL:https://leasuter.com/event/schlagzeug-und-orgel-gegensaetze-ziehen-sich-an/
LOCATION:Bremen\, Glocke
CATEGORIES:Orgelkonzert
ATTACH;FMTTYPE=image/png:https://leasuter.com/wp-content/uploads/2021/07/Screenshot-2021-07-27-222543_sm2.png
END:VEVENT
END:VCALENDAR