BEGIN:VCALENDAR
VERSION:2.0
PRODID:-//Lea Suter: Cembalo, Orgel, Clavichord - ECPv6.15.17.1//NONSGML v1.0//EN
CALSCALE:GREGORIAN
METHOD:PUBLISH
X-WR-CALNAME:Lea Suter: Cembalo, Orgel, Clavichord
X-ORIGINAL-URL:https://leasuter.com
X-WR-CALDESC:Veranstaltungen für Lea Suter: Cembalo, Orgel, Clavichord
REFRESH-INTERVAL;VALUE=DURATION:PT1H
X-Robots-Tag:noindex
X-PUBLISHED-TTL:PT1H
BEGIN:VTIMEZONE
TZID:Europe/Berlin
BEGIN:DAYLIGHT
TZOFFSETFROM:+0100
TZOFFSETTO:+0200
TZNAME:CEST
DTSTART:20230326T010000
END:DAYLIGHT
BEGIN:STANDARD
TZOFFSETFROM:+0200
TZOFFSETTO:+0100
TZNAME:CET
DTSTART:20231029T010000
END:STANDARD
BEGIN:DAYLIGHT
TZOFFSETFROM:+0100
TZOFFSETTO:+0200
TZNAME:CEST
DTSTART:20240331T010000
END:DAYLIGHT
BEGIN:STANDARD
TZOFFSETFROM:+0200
TZOFFSETTO:+0100
TZNAME:CET
DTSTART:20241027T010000
END:STANDARD
BEGIN:DAYLIGHT
TZOFFSETFROM:+0100
TZOFFSETTO:+0200
TZNAME:CEST
DTSTART:20250330T010000
END:DAYLIGHT
BEGIN:STANDARD
TZOFFSETFROM:+0200
TZOFFSETTO:+0100
TZNAME:CET
DTSTART:20251026T010000
END:STANDARD
END:VTIMEZONE
BEGIN:VEVENT
DTSTART;TZID=Europe/Berlin:20240406T190000
DTEND;TZID=Europe/Berlin:20240406T190000
DTSTAMP:20260422T022809
CREATED:20240218T211024Z
LAST-MODIFIED:20240218T211024Z
UID:3305-1712430000-1712430000@leasuter.com
SUMMARY:Weckmann - Schütz und die Norddeutsche Orgel
DESCRIPTION:Als einer der bedeutendsten Orgelbauer der Norddeutschen Orgellandschaft präsentiert sich uns im 17. Jahrhundert Arp Schnitger und sein Schüler Christian Vater.\nDie Orgeln sind über die Landesgrenzen bekannt und sind dank initiativer Arbeit und Recherche u.a. von Harald Vogel und vielen anderen Organisten in den letzten Jahrzehnten zu Restaurierungen und Instandsetzung\, ja sogar Rückführung zum Ursprungsklang angeregt worden.\nDas Weckmann-Consort hat sich unter der Leitung von Lea Suter – Musikerin und selbst Orgelbauerin zum Ziel gesetzt\, die Ensemblemusik in dem Kontext der Orgelliteratur zu setzen und so im Wechselspiel zwischen der Orgel als Solistin und dem Ensemble mit Sängern\, Bläsern und Streichern\, begleitet von der großen Orgel die unglaubliche Klangpracht dieser Orgeln und den Ensemblemusikern zum Ausdruck zu bringen. \nMit den Ensembles Weckmann-Consort (Lea Suter) und dem Vokalwerk Hannover (Martin Kohlmann) werden somit zwei hochkarätige instrumentale und vokale Klangkörper vereint und durch Lea Suter und Martin Kohlmann an der Orgel begleitet und geleitet.
URL:https://leasuter.com/event/weckmann-schuetz-und-die-norddeutsche-orgel/
LOCATION:Bockhorn\, St. Cosmas und Damian Kirche
CATEGORIES:Weckmann-Consort
ATTACH;FMTTYPE=image/jpeg:https://leasuter.com/wp-content/uploads/2022/09/cropped-Probeaufnahmen-in-Ganderkesee-14-scaled-2.jpg
END:VEVENT
BEGIN:VEVENT
DTSTART;TZID=Europe/Berlin:20240407T170000
DTEND;TZID=Europe/Berlin:20240407T170000
DTSTAMP:20260422T022809
CREATED:20240218T211138Z
LAST-MODIFIED:20240218T211138Z
UID:3307-1712509200-1712509200@leasuter.com
SUMMARY:Weckmann - Schütz und die Norddeutsche Orgel
DESCRIPTION:Als einer der bedeutendsten Orgelbauer der Norddeutschen Orgellandschaft präsentiert sich uns im 17. Jahrhundert Arp Schnitger und sein Schüler Christian Vater.\nDie Orgeln sind über die Landesgrenzen bekannt und sind dank initiativer Arbeit und Recherche u.a. von Harald Vogel und vielen anderen Organisten in den letzten Jahrzehnten zu Restaurierungen und Instandsetzung\, ja sogar Rückführung zum Ursprungsklang angeregt worden.\nDas Weckmann-Consort hat sich unter der Leitung von Lea Suter – Musikerin und selbst Orgelbauerin zum Ziel gesetzt\, die Ensemblemusik in dem Kontext der Orgelliteratur zu setzen und so im Wechselspiel zwischen der Orgel als Solistin und dem Ensemble mit Sängern\, Bläsern und Streichern\, begleitet von der großen Orgel die unglaubliche Klangpracht dieser Orgeln und den Ensemblemusikern zum Ausdruck zu bringen. \nMit den Ensembles Weckmann-Consort (Lea Suter) und dem Vokalwerk Hannover (Martin Kohlmann) werden somit zwei hochkarätige instrumentale und vokale Klangkörper vereint und durch Lea Suter und Martin Kohlmann an der Orgel begleitet und geleitet.
URL:https://leasuter.com/event/weckmann-schuetz-und-die-norddeutsche-orgel-2/
LOCATION:Loccum\, Stiftskirche
CATEGORIES:Weckmann-Consort
ATTACH;FMTTYPE=image/jpeg:https://leasuter.com/wp-content/uploads/2022/09/cropped-Probeaufnahmen-in-Ganderkesee-14-scaled-2.jpg
END:VEVENT
BEGIN:VEVENT
DTSTART;TZID=Europe/Berlin:20240421T180000
DTEND;TZID=Europe/Berlin:20240421T180000
DTSTAMP:20260422T022809
CREATED:20231013T053732Z
LAST-MODIFIED:20240317T061917Z
UID:3268-1713722400-1713722400@leasuter.com
SUMMARY:Fandango-Inspiración
DESCRIPTION:Ein Abend getanzter Lebens- und Liebesfreude \nDer Fandango war der Nationaltanz Spaniens im 18. Jahrhundert — denn dieser Tanz war und ist schlicht getanzte Lebensfreude. Und gewissermaßen auch getanzte Liebesfreude; selbst Giacomo Casanova rühmte den Fandango ausdrücklich als den verführerischsten und wollüstigsten Tanz der Welt«. Und der sollte es ja wissen… \nAuch wir erlagen den Verführungskünsten des Fandango. Und mit diesem Programm möchten wir nun auch unser Publikum erleben lassen\, was an diesem Tanz so fasziniert\, warum sogar die renommiertesten Komponisten früherer Zeiten sich von ihm inspirieren ließen — von Rameau über Soler\, Boccherini oder Scarlatti bis hin zu Gaspar Sanz. \nDoch was wären Tänze ohne Tanz? — Eine halbe Sache. Und deshalb bringen wir dieses Programm gemeinsam mit der wunderbaren Tänzerin Daniela Niemietz auf die Bühne\, die unsere Klänge mit einer atemberaubenden Choreographie in Bewegung umsetzen wird. Lassen auch Sie sich also inspirieren\, vom »verführerischsten und wollüstigsten Tanz der Welt:\n«Von bunten Klängen und mitreißenden Rhythmen\, von reizvollem Fächerspiel und betörenden Tanzschritten! \nMitwirkende\nDani Niemietz – Tanz\nInés Pina Pérez – Barock-Blockflöten\nJuan González Martínez – Barock-Posaune (Ltg.)\nMiguel Bellas – Spanische Gitarre\, Theorbe\nLea Suter – 16-Fuss-Cembalo\nPeter Kuhnsch – Perkussion \nJETZT TICKETS SICHERN!
URL:https://leasuter.com/event/fandango-inspiracion-4/
LOCATION:Heimatmuseum Schloss Schönebeck\, Bremen
CATEGORIES:Ensemble Concierto Iberico
ATTACH;FMTTYPE=image/jpeg:https://leasuter.com/wp-content/uploads/2023/04/Flamenco-Konzerte-im-Tabakquartier-Okt-2022-M-398-scaled.jpg
END:VEVENT
BEGIN:VEVENT
DTSTART;TZID=Europe/Berlin:20240427T180000
DTEND;TZID=Europe/Berlin:20240427T180000
DTSTAMP:20260422T022809
CREATED:20240218T211608Z
LAST-MODIFIED:20240218T211608Z
UID:3310-1714240800-1714240800@leasuter.com
SUMMARY:Cembalokonzert
DESCRIPTION:
URL:https://leasuter.com/event/cembalokonzert-lea-suter-am-16-fuss-cembalo/
LOCATION:St. Petrikriche Westerstede
CATEGORIES:Cembalo
ATTACH;FMTTYPE=image/jpeg:https://leasuter.com/wp-content/uploads/2022/01/pict-034-scaled.jpg
END:VEVENT
END:VCALENDAR