BEGIN:VCALENDAR
VERSION:2.0
PRODID:-//Lea Suter: Cembalo, Orgel, Clavichord - ECPv6.15.17.1//NONSGML v1.0//EN
CALSCALE:GREGORIAN
METHOD:PUBLISH
X-WR-CALNAME:Lea Suter: Cembalo, Orgel, Clavichord
X-ORIGINAL-URL:https://leasuter.com
X-WR-CALDESC:Veranstaltungen für Lea Suter: Cembalo, Orgel, Clavichord
REFRESH-INTERVAL;VALUE=DURATION:PT1H
X-Robots-Tag:noindex
X-PUBLISHED-TTL:PT1H
BEGIN:VTIMEZONE
TZID:Europe/Berlin
BEGIN:DAYLIGHT
TZOFFSETFROM:+0100
TZOFFSETTO:+0200
TZNAME:CEST
DTSTART:20230326T010000
END:DAYLIGHT
BEGIN:STANDARD
TZOFFSETFROM:+0200
TZOFFSETTO:+0100
TZNAME:CET
DTSTART:20231029T010000
END:STANDARD
BEGIN:DAYLIGHT
TZOFFSETFROM:+0100
TZOFFSETTO:+0200
TZNAME:CEST
DTSTART:20240331T010000
END:DAYLIGHT
BEGIN:STANDARD
TZOFFSETFROM:+0200
TZOFFSETTO:+0100
TZNAME:CET
DTSTART:20241027T010000
END:STANDARD
BEGIN:DAYLIGHT
TZOFFSETFROM:+0100
TZOFFSETTO:+0200
TZNAME:CEST
DTSTART:20250330T010000
END:DAYLIGHT
BEGIN:STANDARD
TZOFFSETFROM:+0200
TZOFFSETTO:+0100
TZNAME:CET
DTSTART:20251026T010000
END:STANDARD
END:VTIMEZONE
BEGIN:VEVENT
DTSTART;VALUE=DATE:20240705
DTEND;VALUE=DATE:20240708
DTSTAMP:20260423T111153
CREATED:20240413T150704Z
LAST-MODIFIED:20240501T101446Z
UID:3374-1720137600-1720396799@leasuter.com
SUMMARY:Vom Glanz der Franko-Flämischen Vokalpolyphonie
DESCRIPTION:Workshop Alte Musik | erlernen\, erproben und erleben \nWim Becu | Barockposaune\, Ensembleleitung \nWeckmann-Consort | Juan González\, Barockposaune & Lea Suter\, Orgel \nBeginn: 5. Juli 16 Uhr | Dom zu Fulda \nAbschlusskonzert: 7. Juli 16 Uhr | Klosterkirche Frauenberg\, Fulda \nDas Weckmann-Consort zusammen mit dem belgischen Barockposaunisten Wim Becu laden zum Alte Musik-Workshop im Dom zu Fulda vom 5. bis 7. Juli 2024 ein. SängerInnen und InstrumentalistInnen werden die einzigartige Franko-Flämische Polyphonie von der Renaissance bis zu den Anfängen der venezianischen Mehrchörigkeit mit historischen Instrumenten erlernen\, erproben und erleben. \nWir vertiefen uns in die Blütezeit eines Musikstils\, der im 16. Jh. an den Höfen und Kathedralen Europas musiziert wurde. Die Franko-Flämischen Komponisten strebten nach einer Musik\, die noch reicher und prächtiger mit Sängern und Instrumentalisten besetzt wurde. Sie bildet die Grundlage für die wirkungsvolle Mehrchörigkeit\, die sich später in Venedig entwickelte. Der Kurs richtet sich an fortgeschrittene AmateurmusikerInnen\, Studierende und Profimusiker\, die sich in der Alte Musik auf Zink\, Violine\, Renaissanceposaune\, Gambe\, Renaissanceblockflöte und Gesang weiterbilden wollen. \nProgramm (Auswahl): \nOrlandus Lassus (1532-1594) Missa ad imitationem moduli “tous les regretz” \nJosquin Desprez (ca.1450-1521) Virgo prudentissima à 6 \nJacobus Clemens non Papa (ca.1510-1535/6) Ego flos campi à 7 \nLambert de Sayve (1548/9-1614) Venite exultemus Domino à 12 \nAndrea Gabrieli (1520-1586) Exultate iusti à 10 \nGiovanni Gabrieli (1554/57-1612) Kyrie eleison à 12 (aus Symphoniae sacrae\, 1615)  \nTeilnehmerzahl: Begrenzt auf 12 InstrumentalistInnen (3 x SATB) und 16 SängerInnen (4 x SATB) \nVoraussetzungen: Vom Blatt lesen\, das Instrument/die Stimme beherrschen\, ausdauernder Ansatz \nStimmton: 440 Hz 1/4 Komma mitteltönig \nAnmeldung unter: weckmannconsort@gmail.com\nMit Angabe von Name\, Kontaktdaten\, Instrument/Stimme und Erfahrungen \nUnterkunft: Die Teilnehmer sorgen selbst für Unterkunft und Verpflegung \nKursgebühren: Förderer 250€ / Normalpreis 180€ / Studierende 120€\nErst nach Eingang der Zahlung ist die Anmeldung rechtskräftig.\nSparkasse Bremen\nKonto IBAN DE48 2905 0101 0083 2445 74\nStichwort: Workshop Alte Musik 2024 \ngefördert durch:
URL:https://leasuter.com/event/workshop-alte-musik-weckmann-consort-wim-becu/
LOCATION:Fulda\, Dom
CATEGORIES:Weckmann-Consort
ATTACH;FMTTYPE=image/jpeg:https://leasuter.com/wp-content/uploads/2024/04/Memling-Engel.jpg
END:VEVENT
BEGIN:VEVENT
DTSTART;TZID=Europe/Berlin:20240711T190000
DTEND;TZID=Europe/Berlin:20240711T190000
DTSTAMP:20260423T111153
CREATED:20240317T064225Z
LAST-MODIFIED:20240317T064225Z
UID:3343-1720724400-1720724400@leasuter.com
SUMMARY:Mediterrane Melodien
DESCRIPTION:Von den reichlich verzierten Gesängen der Renaissance zum dramatischen Stylus Fantasticus des Barocks\, stellt das Duo GlossArte mit seinem Programm „Mediterrane Melodien“ eine Gegenüberstellung der italienischer und spanischer Verzierungskunst voller kostbaren Melodien\, verrückten Diminutionen und improvisierenden Kadenzen gespielt auf Barockposaune und Orgel. \nMitwirkende\nDuo GlossArte\nJuan Gonzalez Martinez – historische Posaune\nLea Suter – Orgel
URL:https://leasuter.com/event/mediterrane-melodien/
LOCATION:Leer | Kath. Kirche St. Marien
CATEGORIES:Duo GlossArte,Orgelkonzert
ATTACH;FMTTYPE=image/jpeg:https://leasuter.com/wp-content/uploads/2021/11/Wekcmann_Consort-Dom-scaled.jpg
END:VEVENT
BEGIN:VEVENT
DTSTART;TZID=Europe/Berlin:20240713T180000
DTEND;TZID=Europe/Berlin:20240713T180000
DTSTAMP:20260423T111153
CREATED:20240317T063421Z
LAST-MODIFIED:20240317T063539Z
UID:3340-1720893600-1720893600@leasuter.com
SUMMARY:Cembalokonzert
DESCRIPTION:
URL:https://leasuter.com/event/cembalokonzert-2/
LOCATION:Hamburg\, Privat
CATEGORIES:Cembalo
ATTACH;FMTTYPE=image/jpeg:https://leasuter.com/wp-content/uploads/2022/01/pict-034-scaled.jpg
END:VEVENT
BEGIN:VEVENT
DTSTART;TZID=Europe/Berlin:20240717T180000
DTEND;TZID=Europe/Berlin:20240717T180000
DTSTAMP:20260423T111153
CREATED:20240413T170742Z
LAST-MODIFIED:20240413T171136Z
UID:3429-1721239200-1721239200@leasuter.com
SUMMARY:Der Atem des Jugendstils
DESCRIPTION:Duo GlossArte \nDuo GlossArte:\nJuan González Martínez – Soloposaune\nLea Suter – Orgel \nJugendstil\, Art nouveau\, Modernisme\, Fin de siècle: Viele Namen für eine kunstgeschichtliche Epoche um die Wende vom 19. zum 20. Jahrhundert. Die meisten von uns kennen und lieben die prächtigen floralen Elemente auf Jugendstilfenstern oder -türen\, die herrlich geschwungenen Formen entsprechender Möbel und Gebrauchsgegenstände\, wir alle schwelgen gerne in den Jugendstil-Abteilungen historischer Gebäude und Museen.\nNur: Vom Klang dieser Zeit wissen wir erstaunlich wenig! \nDas Duo GlossArte\, bestehend aus Lea Suter\, der Virtuosin auf historischen Tasteninstrumenten\, und Juan González Martínez\, dem Spezialisten für historische Posaunen\, möchte dies ändern. Auf einer original erhaltenen Posaune aus den 1920er Jahren gespielt\, haben die Musiker ein Programm erstellt\, in dem sich die Konzertbesucher auf eine abwechslungsreiche Mischung aus hoch-virtuosen Duos für Posaune und Orgel und anspruchsvoller Solo-Literatur für beide Instrumente freuen dürfen.\nUnd wer dabei die Augen schließt\, kann sich zurückversetzen in eine Epoche voller raffinierter Ornamente\, dekorativer Ranken und filigraner Verzierungen –– in Bild und\, endlich\, auch in Klang!
URL:https://leasuter.com/event/der-atem-des-jugendstils-3/
LOCATION:Greifswald\, Marienkirche
CATEGORIES:Duo GlossArte
ATTACH;FMTTYPE=image/jpeg:https://leasuter.com/wp-content/uploads/2021/08/cropped-cropped-Duo_GlossArte_sm-1-e1627985561739.jpg
END:VEVENT
BEGIN:VEVENT
DTSTART;TZID=Europe/Berlin:20240724T190000
DTEND;TZID=Europe/Berlin:20240724T190000
DTSTAMP:20260423T111153
CREATED:20240413T170052Z
LAST-MODIFIED:20240413T171229Z
UID:3420-1721847600-1721847600@leasuter.com
SUMMARY:Der Atem des Jugendstils
DESCRIPTION:Duo GlossArte \nDuo GlossArte:\nJuan González Martínez – Soloposaune\nLea Suter – Orgel \nJugendstil\, Art nouveau\, Modernisme\, Fin de siècle: Viele Namen für eine kunstgeschichtliche Epoche um die Wende vom 19. zum 20. Jahrhundert. Die meisten von uns kennen und lieben die prächtigen floralen Elemente auf Jugendstilfenstern oder -türen\, die herrlich geschwungenen Formen entsprechender Möbel und Gebrauchsgegenstände\, wir alle schwelgen gerne in den Jugendstil-Abteilungen historischer Gebäude und Museen.\nNur: Vom Klang dieser Zeit wissen wir erstaunlich wenig! \nDas Duo GlossArte\, bestehend aus Lea Suter\, der Virtuosin auf historischen Tasteninstrumenten\, und Juan González Martínez\, dem Spezialisten für historische Posaunen\, möchte dies ändern. Auf einer original erhaltenen Posaune aus den 1920er Jahren gespielt\, haben die Musiker ein Programm erstellt\, in dem sich die Konzertbesucher auf eine abwechslungsreiche Mischung aus hoch-virtuosen Duos für Posaune und Orgel und anspruchsvoller Solo-Literatur für beide Instrumente freuen dürfen.\nUnd wer dabei die Augen schließt\, kann sich zurückversetzen in eine Epoche voller raffinierter Ornamente\, dekorativer Ranken und filigraner Verzierungen –– in Bild und\, endlich\, auch in Klang!
URL:https://leasuter.com/event/der-atem-des-jugendstils-2/
LOCATION:Drammen-NO\, Bragernes Kirche
CATEGORIES:Duo GlossArte
ATTACH;FMTTYPE=image/jpeg:https://leasuter.com/wp-content/uploads/2021/08/cropped-cropped-Duo_GlossArte_sm-1-e1627985561739.jpg
END:VEVENT
BEGIN:VEVENT
DTSTART;TZID=Europe/Berlin:20240728T170000
DTEND;TZID=Europe/Berlin:20240728T170000
DTSTAMP:20260423T111153
CREATED:20240413T170233Z
LAST-MODIFIED:20240413T170243Z
UID:3423-1722186000-1722186000@leasuter.com
SUMMARY:Mediterrane Melodien
DESCRIPTION:Von den reichlich verzierten Gesängen der Renaissance zum dramatischen Stylus Fantasticus des Barocks\, stellt das Duo GlossArte mit seinem Programm „Mediterrane Melodien“ eine Gegenüberstellung der italienischer und spanischer Verzierungskunst voller kostbaren Melodien\, verrückten Diminutionen und improvisierenden Kadenzen gespielt auf Barockposaune und Orgel. \nMitwirkende\nDuo GlossArte\nJuan Gonzalez Martinez – historische Posaune\nLea Suter – Orgel \nRunar Kjeldsberg – Theorbe
URL:https://leasuter.com/event/mediterrane-melodien-2/
LOCATION:Tonsberg-NO
CATEGORIES:Duo GlossArte,Orgelkonzert
ATTACH;FMTTYPE=image/jpeg:https://leasuter.com/wp-content/uploads/2021/11/Wekcmann_Consort-Dom-scaled.jpg
END:VEVENT
END:VCALENDAR