BEGIN:VCALENDAR
VERSION:2.0
PRODID:-//Lea Suter: Cembalo, Orgel, Clavichord - ECPv6.15.17.1//NONSGML v1.0//EN
CALSCALE:GREGORIAN
METHOD:PUBLISH
X-WR-CALNAME:Lea Suter: Cembalo, Orgel, Clavichord
X-ORIGINAL-URL:https://leasuter.com
X-WR-CALDESC:Veranstaltungen für Lea Suter: Cembalo, Orgel, Clavichord
REFRESH-INTERVAL;VALUE=DURATION:PT1H
X-Robots-Tag:noindex
X-PUBLISHED-TTL:PT1H
BEGIN:VTIMEZONE
TZID:Europe/Berlin
BEGIN:DAYLIGHT
TZOFFSETFROM:+0100
TZOFFSETTO:+0200
TZNAME:CEST
DTSTART:20230326T010000
END:DAYLIGHT
BEGIN:STANDARD
TZOFFSETFROM:+0200
TZOFFSETTO:+0100
TZNAME:CET
DTSTART:20231029T010000
END:STANDARD
BEGIN:DAYLIGHT
TZOFFSETFROM:+0100
TZOFFSETTO:+0200
TZNAME:CEST
DTSTART:20240331T010000
END:DAYLIGHT
BEGIN:STANDARD
TZOFFSETFROM:+0200
TZOFFSETTO:+0100
TZNAME:CET
DTSTART:20241027T010000
END:STANDARD
BEGIN:DAYLIGHT
TZOFFSETFROM:+0100
TZOFFSETTO:+0200
TZNAME:CEST
DTSTART:20250330T010000
END:DAYLIGHT
BEGIN:STANDARD
TZOFFSETFROM:+0200
TZOFFSETTO:+0100
TZNAME:CET
DTSTART:20251026T010000
END:STANDARD
END:VTIMEZONE
BEGIN:VEVENT
DTSTART;TZID=Europe/Berlin:20241207T170000
DTEND;TZID=Europe/Berlin:20241207T170000
DTSTAMP:20260421T132718
CREATED:20241205T191239Z
LAST-MODIFIED:20241205T191403Z
UID:3564-1733590800-1733590800@leasuter.com
SUMMARY:ADVENTS "LESSONS AND CAROLS" aus der englischen Tradition 
DESCRIPTION:Kantorei der St. Martini-Kirche Bremen-Lesum \nLeitung: Matt Glandorf \nEin Adventsgottesdienst bei Kerzenlicht mit Liedern und Carols für Chor. \nWerke von Hildegard von Bingen\, Palestrina\, Weir\, Distler\, Rutter\, Stanford und Ešenvalds Vokalensemble der St Martini Kirche Die Capella der St. Martini Kirche Lea Suter – Organistin \nMatthew Glandorf – Leitung \n 
URL:https://leasuter.com/event/advents-lessons-and-carols-aus-der-englischen-tradition/
LOCATION:Bremen-Lesum\, St. Martini Kirche
CATEGORIES:Orgelkonzert
ATTACH;FMTTYPE=image/jpeg:https://leasuter.com/wp-content/uploads/2023/04/MG_66871-scaled.jpg
END:VEVENT
BEGIN:VEVENT
DTSTART;TZID=Europe/Berlin:20241224T230000
DTEND;TZID=Europe/Berlin:20241224T230000
DTSTAMP:20260421T132718
CREATED:20241017T075533Z
LAST-MODIFIED:20241017T075533Z
UID:3547-1735081200-1735081200@leasuter.com
SUMMARY:Heinrich Schütz "Weihnachtshistorie"
DESCRIPTION:Kantorei der St. Martini-Kirche Bremen-Lesum \nLeitung: Matt Glandorf \nWeckmann-Consort \nCarla Linné – Violine \nJosquin Piguet – Zink \nJuan Gonzalez Martinez – Posaune \nAlekander Kolomiets – Dulzian \nKristina Haller –Gambe \nLea Suter – Orgel und künstlerische Leitung \n 
URL:https://leasuter.com/event/heinrich-schuetz-weihnachtshistorie/
LOCATION:Bremen-Lesum\, St. Martini Kirche
CATEGORIES:Weckmann-Consort
ATTACH;FMTTYPE=image/jpeg:https://leasuter.com/wp-content/uploads/2022/09/cropped-Probeaufnahmen-in-Ganderkesee-14-scaled-2.jpg
END:VEVENT
BEGIN:VEVENT
DTSTART;TZID=Europe/Berlin:20241228T180000
DTEND;TZID=Europe/Berlin:20241228T180000
DTSTAMP:20260421T132718
CREATED:20241211T093853Z
LAST-MODIFIED:20241211T093853Z
UID:3611-1735408800-1735408800@leasuter.com
SUMMARY:Mediterrane Melodien
DESCRIPTION:Von den reichlich verzierten Gesängen der Renaissance zum dramatischen Stylus Fantasticus des Barocks\, stellt das Duo GlossArte mit seinem Programm „Mediterrane Melodien“ eine Gegenüberstellung der italienischer und spanischer Verzierungskunst voller kostbaren Melodien\, verrückten Diminutionen und improvisierenden Kadenzen gespielt auf Barockposaune und Orgel. \nMitwirkende\nDuo GlossArte\nJuan Gonzalez Martinez – historische Posaune\nLea Suter – Orgel \n 
URL:https://leasuter.com/event/mediterrane-melodien-4/
LOCATION:Dreifaltigkeitskriche\, Oldenburg
CATEGORIES:Duo GlossArte,Orgelkonzert
ATTACH;FMTTYPE=image/jpeg:https://leasuter.com/wp-content/uploads/2021/11/Wekcmann_Consort-Dom-scaled.jpg
END:VEVENT
BEGIN:VEVENT
DTSTART;TZID=Europe/Berlin:20241231T180000
DTEND;TZID=Europe/Berlin:20241231T180000
DTSTAMP:20260421T132718
CREATED:20241211T093228Z
LAST-MODIFIED:20241211T093259Z
UID:3606-1735668000-1735668000@leasuter.com
SUMMARY:Silvesterkonzert
DESCRIPTION:Kantorei der St. Martini-Kirche Bremen-Lesum \nLeitung: Matt Glandorf \n  \nKyrie in F Dur\, Sanctus in G Dur – J. S. Bach\, Te Deum und Jubilate in D Dur – Henry Purcell \nVokalensemble der St. Martini Kirche\, Barocknsemble Matthew Glandorf – Leitung \n  \n 
URL:https://leasuter.com/event/silvesterkonzerte/
LOCATION:Bremen-Lesum\, St. Martini Kirche
CATEGORIES:Cembalo
ATTACH;FMTTYPE=image/jpeg:https://leasuter.com/wp-content/uploads/2022/07/pict-116-scaled.jpg
END:VEVENT
END:VCALENDAR