BEGIN:VCALENDAR
VERSION:2.0
PRODID:-//Lea Suter: Cembalo, Orgel, Clavichord - ECPv6.15.17.1//NONSGML v1.0//EN
CALSCALE:GREGORIAN
METHOD:PUBLISH
X-ORIGINAL-URL:https://leasuter.com
X-WR-CALDESC:Veranstaltungen für Lea Suter: Cembalo, Orgel, Clavichord
REFRESH-INTERVAL;VALUE=DURATION:PT1H
X-Robots-Tag:noindex
X-PUBLISHED-TTL:PT1H
BEGIN:VTIMEZONE
TZID:Europe/Berlin
BEGIN:DAYLIGHT
TZOFFSETFROM:+0100
TZOFFSETTO:+0200
TZNAME:CEST
DTSTART:20240331T010000
END:DAYLIGHT
BEGIN:STANDARD
TZOFFSETFROM:+0200
TZOFFSETTO:+0100
TZNAME:CET
DTSTART:20241027T010000
END:STANDARD
BEGIN:DAYLIGHT
TZOFFSETFROM:+0100
TZOFFSETTO:+0200
TZNAME:CEST
DTSTART:20250330T010000
END:DAYLIGHT
BEGIN:STANDARD
TZOFFSETFROM:+0200
TZOFFSETTO:+0100
TZNAME:CET
DTSTART:20251026T010000
END:STANDARD
BEGIN:DAYLIGHT
TZOFFSETFROM:+0100
TZOFFSETTO:+0200
TZNAME:CEST
DTSTART:20260329T010000
END:DAYLIGHT
BEGIN:STANDARD
TZOFFSETFROM:+0200
TZOFFSETTO:+0100
TZNAME:CET
DTSTART:20261025T010000
END:STANDARD
END:VTIMEZONE
BEGIN:VEVENT
DTSTART;TZID=Europe/Berlin:20250101T170000
DTEND;TZID=Europe/Berlin:20250101T170000
DTSTAMP:20260421T120052
CREATED:20241211T093619Z
LAST-MODIFIED:20241211T093726Z
UID:3609-1735750800-1735750800@leasuter.com
SUMMARY:Mediterrane Melodien
DESCRIPTION:Von den reichlich verzierten Gesängen der Renaissance zum dramatischen Stylus Fantasticus des Barocks\, stellt das Duo GlossArte mit seinem Programm „Mediterrane Melodien“ eine Gegenüberstellung der italienischer und spanischer Verzierungskunst voller kostbaren Melodien\, verrückten Diminutionen und improvisierenden Kadenzen gespielt auf Barockposaune und Orgel. \nMitwirkende\nDuo GlossArte\nJuan Gonzalez Martinez – historische Posaune\nLea Suter – Orgel \n 
URL:https://leasuter.com/event/mediterrane-melodien-3/
LOCATION:Stadtkirche\, Rotenburg (Wümme)
CATEGORIES:Duo GlossArte,Orgelkonzert
ATTACH;FMTTYPE=image/jpeg:https://leasuter.com/wp-content/uploads/2021/11/Wekcmann_Consort-Dom-scaled.jpg
END:VEVENT
BEGIN:VEVENT
DTSTART;TZID=Europe/Berlin:20250109T190000
DTEND;TZID=Europe/Berlin:20250109T190000
DTSTAMP:20260421T120052
CREATED:20241211T094017Z
LAST-MODIFIED:20241211T094017Z
UID:3613-1736449200-1736449200@leasuter.com
SUMMARY:Mediterrane Melodien
DESCRIPTION:Von den reichlich verzierten Gesängen der Renaissance zum dramatischen Stylus Fantasticus des Barocks\, stellt das Duo GlossArte mit seinem Programm „Mediterrane Melodien“ eine Gegenüberstellung der italienischer und spanischer Verzierungskunst voller kostbaren Melodien\, verrückten Diminutionen und improvisierenden Kadenzen gespielt auf Barockposaune und Orgel. \nMitwirkende\nDuo GlossArte\nJuan Gonzalez Martinez – historische Posaune\nLea Suter – Orgel \n 
URL:https://leasuter.com/event/mediterrane-melodien-5/
LOCATION:Bremen\, St. Petri Dom
CATEGORIES:Duo GlossArte,Orgelkonzert
ATTACH;FMTTYPE=image/jpeg:https://leasuter.com/wp-content/uploads/2021/11/Wekcmann_Consort-Dom-scaled.jpg
END:VEVENT
BEGIN:VEVENT
DTSTART;TZID=Europe/Berlin:20250111T190000
DTEND;TZID=Europe/Berlin:20250111T190000
DTSTAMP:20260421T120052
CREATED:20241211T095645Z
LAST-MODIFIED:20250107T174515Z
UID:3615-1736622000-1736622000@leasuter.com
SUMMARY:Trombone overo Viola
DESCRIPTION:Neue Dozenten für Alte Musik \nFestliche und virtuose Musik von Selma\, Rossi und Ortiz \nMitwirkende\nDuo GlossArte\nJuan Gonzalez Martinez – historische Posaune\nLea Suter – Orgel \nChristine Vogel – Viola da Gamba \n 
URL:https://leasuter.com/event/neujahrskonzert-der-kreismusikschule-fulda/
LOCATION:Fulda\, Michaelskirche
CATEGORIES:Duo GlossArte,Orgelkonzert
ATTACH;FMTTYPE=image/jpeg:https://leasuter.com/wp-content/uploads/2021/11/Wekcmann_Consort-Dom-scaled.jpg
END:VEVENT
BEGIN:VEVENT
DTSTART;TZID=Europe/Berlin:20250126T170000
DTEND;TZID=Europe/Berlin:20250126T170000
DTSTAMP:20260421T120052
CREATED:20241215T124541Z
LAST-MODIFIED:20241215T124541Z
UID:3780-1737910800-1737910800@leasuter.com
SUMMARY:Clavichord CD-Release-Konzert
DESCRIPTION:Wohl kaum ein Tasteninstrument klingt so zart und ist gleichzeitig so facettenreich im Ausdruck wie das Clavichord. Die direkte Mechanik erlaubt feinste Nuancierungen\, sogar ein Vibrato ist möglich. Bach liebte das Instrument und brachte seinen Schülern am Clavichord Ausdruck und Affekte nahe. Lea Suter weiß dies für ihre neueste CD-Einspielung fantasievoll einzusetzen und zeigt\, welchen Reichtum an Inspiration in so bekannten Werken wie der Chromatischen Fantasie und Fuge\, der e-Moll-Partita und selbst der grandiosen Chaconne für Violine solosteckt.
URL:https://leasuter.com/event/clavichord-cd-release-konzert/
LOCATION:Bremen\, Institut Francais\, Contrescarpe 19\, Bremen\, 28203
CATEGORIES:Cembalo
ATTACH;FMTTYPE=image/jpeg:https://leasuter.com/wp-content/uploads/2024/12/24043_0326-2-scaled.jpg
END:VEVENT
END:VCALENDAR