BEGIN:VCALENDAR
VERSION:2.0
PRODID:-//Lea Suter: Cembalo, Orgel, Clavichord - ECPv6.15.17.1//NONSGML v1.0//EN
CALSCALE:GREGORIAN
METHOD:PUBLISH
X-WR-CALNAME:Lea Suter: Cembalo, Orgel, Clavichord
X-ORIGINAL-URL:https://leasuter.com
X-WR-CALDESC:Veranstaltungen für Lea Suter: Cembalo, Orgel, Clavichord
REFRESH-INTERVAL;VALUE=DURATION:PT1H
X-Robots-Tag:noindex
X-PUBLISHED-TTL:PT1H
BEGIN:VTIMEZONE
TZID:Europe/Berlin
BEGIN:DAYLIGHT
TZOFFSETFROM:+0100
TZOFFSETTO:+0200
TZNAME:CEST
DTSTART:20240331T010000
END:DAYLIGHT
BEGIN:STANDARD
TZOFFSETFROM:+0200
TZOFFSETTO:+0100
TZNAME:CET
DTSTART:20241027T010000
END:STANDARD
BEGIN:DAYLIGHT
TZOFFSETFROM:+0100
TZOFFSETTO:+0200
TZNAME:CEST
DTSTART:20250330T010000
END:DAYLIGHT
BEGIN:STANDARD
TZOFFSETFROM:+0200
TZOFFSETTO:+0100
TZNAME:CET
DTSTART:20251026T010000
END:STANDARD
BEGIN:DAYLIGHT
TZOFFSETFROM:+0100
TZOFFSETTO:+0200
TZNAME:CEST
DTSTART:20260329T010000
END:DAYLIGHT
BEGIN:STANDARD
TZOFFSETFROM:+0200
TZOFFSETTO:+0100
TZNAME:CET
DTSTART:20261025T010000
END:STANDARD
END:VTIMEZONE
BEGIN:VEVENT
DTSTART;VALUE=DATE:20250522
DTEND;VALUE=DATE:20250526
DTSTAMP:20260419T232811
CREATED:20241221T185751Z
LAST-MODIFIED:20241221T185822Z
UID:3928-1747872000-1748217599@leasuter.com
SUMMARY:500 Jahre Palestrina - Meisterwerke der italienischen Vokalpolyphonie
DESCRIPTION:Workshop Alte Musik | erlernen\, erproben und erleben \nWim Becu | Barockposaune\, Ensembleleitung \nBettina Pahn | Gesang \nWeckmann-Consort | Juan González\, Barockposaune; Lea Suter\, Orgel \nCarla Linné\, Violine; Josquin Piguet\, Zink & Clemmens Schlemmer\, Dulzian \n  \nAblauf: \nDo. 22. Mai 2025 Dozentenkonzert | 20 Uhr\, Christus Kirche\, Fulda \nFr. 23. Mai 2025 Einzelunterricht ab 10 Uhr | Dom zu Fulda \nFr. 23. ab 16 Uhr – So. 25. Mai 2025 Gruppenunterricht | Dom zu Fulda \nSo. 25. Mai 2025 Teilnehmendenkonzert | 16 Uhr\, Klosterkirche Frauenberg\, Fulda \n  \nProgramm (Auswahl): \nGiovanni Pierluigi da Palestrina (1525 – 1594)     Kyrie\, Gloria (Missa Papae Marcelli à 6) \nAgnus Die (Missa Tu es Petrus à 18) \nGiovanni Battista Bovicelli (ca.1550 – 1594)         Io son ferito und Ave verum corpus (nach Palestrina) \nGiacomo Carrisimi (1605 – 1674)                            Credo (Missa L’Homme Armé à 12) \nGiovanni Domenico Rognoni Taeggio (? – 1624)  Quemadmodum desiderat à 8  \nGirolamo Frescobaldi (1583 – 1643)                      Sanctus (Missa sopra l’aria della Monica à 8)  \nEmilio de’ Cavalieri (ca.1550 – 1602)                     Lamentationes Jeremiae Prophetae  \n“Finale” scena 9 (Rappresentatione di anima et di corpo) \n  \nDas Weckmann-Consort zusammen mit dem Barockposaunisten Wim Becu und der Sopranistin Bettina Pahn laden zum Alte Musik-Workshop im Dom zu Fulda vom 22. bis 25. Mai 2025 ein. SängerInnen und InstrumentalistInnen werden die einzigartigen Meisterwerke der italienischen Vokalpolyphonie von der Renaissance über die Mehrchörigkeit bis zu den Anfängen der Monodie mit historischen Instrumenten erlernen\, erproben und erleben. \nDer Sänger\, Kapellmeister und Komponist Giovanni Pierluigi da Palestrina (1525 – 1594) galt schon in Lebzeiten als „Superstar“ europäischen Rangs der Vokalpolyphonie. Anlässlich seines 500. Geburtsjahres vertiefen wir uns in die Blütezeit seines Musikstils\, der Grundlage ist für die wirkungsvolle Mehrchörigkeit\, bis hin zu den geistlichen „Concerti“ und „Recitativi“ mit Solostimmen und Basso Continuo. In Gruppen- und Einzelunterricht richtet sich der Kurs an fortgeschrittene AmateurmusikerInnen\, Studierende und ProfimusikerInnen\, die sich in der Alte Musik auf Gesang\, Zink\, Posaune\, Violine\, Gambe\, Blockflöte und Dulzian weiterbilden wollen. \n  \nTeilnehmerzahl: Begrenzt auf 12 InstrumentalistInnen (3 x SATB) und 16 SängerInnen (4 x SATB) \nVoraussetzungen: Vom Blatt lesen\, das Instrument/die Stimme beherrschen\, ausdauernder Ansatz \nStimmton: 440 Hz 1/4 Komma mitteltönig \n  \nAnmeldung unter: weckmannconsort@gmail.com \nMit Angabe von Namen\, Kontaktdaten\, Instrument/Stimme\, Erfahrungen und Interesse an Einzelunterricht \nUnterkunft: Die Teilnehmer sorgen selbst für Unterkunft und Verpflegung \n  \nKursgebühren: Förderer 250€ / Normalpreis 180€ / Studierende 120€ \nStichwort: Workshop Alte Musik 2025 \nErst nach Eingang der Zahlung ist die Anmeldung rechtskräftig. \nSparkasse Bremen / Konto IBAN DE48 2905 0101 0083 2445 74 \n  \ngefördert durch:
URL:https://leasuter.com/event/500-jahre-palestrina-meisterwerke-der-italienischen-vokalpolyphonie/
LOCATION:Fulda\, Dom
CATEGORIES:Weckmann-Consort
ATTACH;FMTTYPE=image/png:https://leasuter.com/wp-content/uploads/2024/12/Bild1-Workshop.png
END:VEVENT
END:VCALENDAR