BEGIN:VCALENDAR
VERSION:2.0
PRODID:-//Lea Suter: Cembalo, Orgel, Clavichord - ECPv6.15.17.1//NONSGML v1.0//EN
CALSCALE:GREGORIAN
METHOD:PUBLISH
X-ORIGINAL-URL:https://leasuter.com
X-WR-CALDESC:Veranstaltungen für Lea Suter: Cembalo, Orgel, Clavichord
REFRESH-INTERVAL;VALUE=DURATION:PT1H
X-Robots-Tag:noindex
X-PUBLISHED-TTL:PT1H
BEGIN:VTIMEZONE
TZID:Europe/Berlin
BEGIN:DAYLIGHT
TZOFFSETFROM:+0100
TZOFFSETTO:+0200
TZNAME:CEST
DTSTART:20240331T010000
END:DAYLIGHT
BEGIN:STANDARD
TZOFFSETFROM:+0200
TZOFFSETTO:+0100
TZNAME:CET
DTSTART:20241027T010000
END:STANDARD
BEGIN:DAYLIGHT
TZOFFSETFROM:+0100
TZOFFSETTO:+0200
TZNAME:CEST
DTSTART:20250330T010000
END:DAYLIGHT
BEGIN:STANDARD
TZOFFSETFROM:+0200
TZOFFSETTO:+0100
TZNAME:CET
DTSTART:20251026T010000
END:STANDARD
BEGIN:DAYLIGHT
TZOFFSETFROM:+0100
TZOFFSETTO:+0200
TZNAME:CEST
DTSTART:20260329T010000
END:DAYLIGHT
BEGIN:STANDARD
TZOFFSETFROM:+0200
TZOFFSETTO:+0100
TZNAME:CET
DTSTART:20261025T010000
END:STANDARD
END:VTIMEZONE
BEGIN:VEVENT
DTSTART;TZID=Europe/Berlin:20251101T110000
DTEND;TZID=Europe/Berlin:20251101T130000
DTSTAMP:20260420T094652
CREATED:20250419T123008Z
LAST-MODIFIED:20250419T123008Z
UID:4391-1761994800-1762002000@leasuter.com
SUMMARY:KonzertStattreise - Bremer Stadtmusikanten 2.0
DESCRIPTION:Stadtführung mit Konzert \nWeltweit bekannt durch die Bremer Stadtmusikanten und als Literaturstadt lädt Bremen ein\, in die Märchenwelt der Gebrüder Grimm einzutauchen. Die Stadtmusikanten oder Stadtpfeifer waren Musiker\, die in ganz Europa bei verschiedenen Anlässen wie Hochzeiten\, Empfängen oder Festen aufspielten. An drei bis vier Orte in der Innenstadt\, wie der Ratskirche Unser Lieben Frauen\, auf dem Balkon der magischen Böttcherstraße ​oder im Designmuseum Wilhelm-Wagenfeld-Haus\, stellen wir all diese Anlässe musikalisch dar. Ergänzt wird das Wandelkonzert durch kuriose Anekdoten und ​interessante Geschichten aus der Blütezeit der\nHansestadt mit dem Kulturwissenschaftler​n Andreas Calic in Kooperation mit dem Bildungsveranstalter StattReisen Bremen.\nWer die Stadt noch nicht aus ​dieser Perspektive kennt\, komme gern zur unseren​ musikalischen Stadtführung und ​l​ässt sich erzählerisch​ musikalisch entführen! \nBei der Stadtführung mit Konzert “KonzertStattReise – Die Bremer Stadtmusikanten 2.0” bleibt kein Auge trocken. Mit der schwungvollen Musik des Ensembles Concierto Ibérico und den historischen Fakten und kuriosen Geschichten des Rundgangsleiters erleben die Teilnehmer bei Bremens erster konzertierender Stadtführung das alte Bremen ganz neu. Die vier jungen Musiker lassen die Musik der echten Stadtmusikanten vergangener Jahrhunderte wiederaufleben! \nTeaser: https://youtu.be/tUHrGMlOtN4 \nKarten: https://www.stattreisen-bremen.de/stadtfuehrungen/thema/auflistung/inszenierte-fuehrungen/musikalische-stadtfuehrung-stadtfuehrung-mit-konzert.html \nMitwirkende\nAndreas Calic – Rundgangsleiter\nConcierto Ibérico
URL:https://leasuter.com/event/konzertstattreise-bremer-stadtmusikanten-2-0-11/
LOCATION:Bremen\, Stadtmusikanten\, Schoppensteel
CATEGORIES:Ensemble Concierto Iberico
ATTACH;FMTTYPE=image/jpeg:https://leasuter.com/wp-content/uploads/2021/11/Concierto-Iberico-.jpg
END:VEVENT
BEGIN:VEVENT
DTSTART;TZID=Europe/Berlin:20251101T190000
DTEND;TZID=Europe/Berlin:20251101T190000
DTSTAMP:20260420T094652
CREATED:20250727T112302Z
LAST-MODIFIED:20250820T150020Z
UID:4512-1762023600-1762023600@leasuter.com
SUMMARY:#dresden
DESCRIPTION:Matthias Weckmann hat vermutlich im Zusammenhang mit der Erlangung des Bürgerrechtes im Domrempter der Jakobikirche Hamburg das Recht bekommen\, mit seinem Collegium Musicum jeden Donnerstag »die besten Sachen aus Venedig\, Rom\, Wien\, München\, Dresden &c.« aufzuführen\, so hat es Johann Mattheson 1713 überliefert. Eine Art Konzertreihe für alle Gesellschaftsschichten\, bei der neben ambitionierten Laien – gemessen an den technischen Herausforderungen der Werke – auch hochprofessionelle Musiker auftraten. \nDer Jakobi-Organist komponierte 1663 zehn Sonaten für eben dieses Collegium Musicum für Zink\, Violine\, Posaune\, Dulzian und Orgel\, nach dessen Vorbild sich das Weckmann-Consort gründete\, mit dem Ziel seine Sonaten zu spielen und die hochvirtuosen Spieltechniken der historischen Instrumente wiederzubeleben. \nZu seinem fünf-jährigen Bestehen möchte nun das Weckmann-Consort diese anspruchsvollen\, selten gespielten Sonaten in einer fünf-teiligen Konzertreihe kombiniert mit den besten Sachen aus Venedig\, Rom\, Wien\, München und Dresden aufführen und wie zu Weckmanns Zeiten einem vielschichtigen Publikum näherbringen. \nSo wie Weckmann die besten Sachen aus den Metropolen Europas nach Hamburg holte\, möchten wir die Besten Sachen – neu entdeckt – ins Konzert bringen. \n  \n  \nWeckmann-Consort  \nLea Suter\, Orgel – künstlerische Leitung \nJuan González\, Barockposaune \nCarla Linné\, Violine \nJosquin Piguet\, Zink \nClemens Schlemmer\, Dulzian \n  \nDavid Erler – Altus \nTobias Hunger – Tenor \nFelix Schwandtke – Bass \n  \ngefördert durch \n \n 
URL:https://leasuter.com/event/dresden/
LOCATION:Lübeck\, Aegidien Kirche
CATEGORIES:Weckmann-Consort
ATTACH;FMTTYPE=image/jpeg:https://leasuter.com/wp-content/uploads/2025/07/25031_0029-scaled.jpg
END:VEVENT
BEGIN:VEVENT
DTSTART;TZID=Europe/Berlin:20251102T170000
DTEND;TZID=Europe/Berlin:20251102T170000
DTSTAMP:20260420T094652
CREATED:20250727T112439Z
LAST-MODIFIED:20250820T145854Z
UID:4515-1762102800-1762102800@leasuter.com
SUMMARY:#dresden
DESCRIPTION:Matthias Weckmann hat vermutlich im Zusammenhang mit der Erlangung des Bürgerrechtes im Domrempter der Jakobikirche Hamburg das Recht bekommen\, mit seinem Collegium Musicum jeden Donnerstag »die besten Sachen aus Venedig\, Rom\, Wien\, München\, Dresden &c.« aufzuführen\, so hat es Johann Mattheson 1713 überliefert. Eine Art Konzertreihe für alle Gesellschaftsschichten\, bei der neben ambitionierten Laien – gemessen an den technischen Herausforderungen der Werke – auch hochprofessionelle Musiker auftraten. \nDer Jakobi-Organist komponierte 1663 zehn Sonaten für eben dieses Collegium Musicum für Zink\, Violine\, Posaune\, Dulzian und Orgel\, nach dessen Vorbild sich das Weckmann-Consort gründete\, mit dem Ziel seine Sonaten zu spielen und die hochvirtuosen Spieltechniken der historischen Instrumente wiederzubeleben. \nZu seinem fünf-jährigen Bestehen möchte nun das Weckmann-Consort diese anspruchsvollen\, selten gespielten Sonaten in einer fünf-teiligen Konzertreihe kombiniert mit den besten Sachen aus Venedig\, Rom\, Wien\, München und Dresden aufführen und wie zu Weckmanns Zeiten einem vielschichtigen Publikum näherbringen. \nSo wie Weckmann die besten Sachen aus den Metropolen Europas nach Hamburg holte\, möchten wir die Besten Sachen – neu entdeckt – ins Konzert bringen. \n  \n  \nWeckmann-Consort  \nLea Suter\, Orgel – künstlerische Leitung \nJuan González\, Barockposaune \nCarla Linné\, Violine \nJosquin Piguet\, Zink \nClemens Schlemmer\, Dulzian \n  \nDavid Erler – Altus \nTobias Hunger – Tenor \nFelix Schwandtke – Bass \n  \ngefördert durch \n Bernd Rogge – Stiftung \n 
URL:https://leasuter.com/event/dresden-2/
LOCATION:Oldenburg\, Ansagrkirche
CATEGORIES:Weckmann-Consort
ATTACH;FMTTYPE=image/jpeg:https://leasuter.com/wp-content/uploads/2025/07/25031_0029-scaled.jpg
END:VEVENT
BEGIN:VEVENT
DTSTART;TZID=Europe/Berlin:20251122T190000
DTEND;TZID=Europe/Berlin:20251122T190000
DTSTAMP:20260420T094653
CREATED:20250727T113857Z
LAST-MODIFIED:20250727T124054Z
UID:4521-1763838000-1763838000@leasuter.com
SUMMARY:#venedig Cavalli und Schütz
DESCRIPTION:Matthias Weckmann hat vermutlich im Zusammenhang mit der Erlangung des Bürgerrechtes im Domrempter der Jakobikirche Hamburg das Recht bekommen\, mit seinem Collegium Musicum jeden Donnerstag »die besten Sachen aus Venedig\, Rom\, Wien\, München\, Dresden &c.« aufzuführen\, so hat es Johann Mattheson 1713 überliefert. Eine Art Konzertreihe für alle Gesellschaftsschichten\, bei der neben ambitionierten Laien – gemessen an den technischen Herausforderungen der Werke – auch hochprofessionelle Musiker auftraten. \nDer Jakobi-Organist komponierte 1663 zehn Sonaten für eben dieses Collegium Musicum für Zink\, Violine\, Posaune\, Dulzian und Orgel\, nach dessen Vorbild sich das Weckmann-Consort gründete\, mit dem Ziel seine Sonaten zu spielen und die hochvirtuosen Spieltechniken der historischen Instrumente wiederzubeleben. \nZu seinem fünf-jährigen Bestehen möchte nun das Weckmann-Consort diese anspruchsvollen\, selten gespielten Sonaten in einer fünf-teiligen Konzertreihe kombiniert mit den besten Sachen aus Venedig\, Rom\, Wien\, München und Dresden aufführen und wie zu Weckmanns Zeiten einem vielschichtigen Publikum näherbringen. \nSo wie Weckmann die besten Sachen aus den Metropolen Europas nach Hamburg holte\, möchten wir die Besten Sachen – neu entdeckt – ins Konzert bringen. \n  \nZusammen mit der Kantorei Leer unter der Leitung von Christian Meyer führen wir Heinrich Schützes musicalische Exequien und Cavallis Requiem auf. \n  \n  \nWeckmann-Consort  \nLea Suter\, Orgel – künstlerische Leitung \nJuan González\, Barockposaune \nCarla Linné\, Violine \nJosquin Piguet\, Zink \nClemens Schlemmer\, Dulzian \n  \n 
URL:https://leasuter.com/event/rom-2/
LOCATION:Stapelmoor\, ev. Kirche
CATEGORIES:Weckmann-Consort
ATTACH;FMTTYPE=image/jpeg:https://leasuter.com/wp-content/uploads/2025/07/25031_0029-scaled.jpg
END:VEVENT
BEGIN:VEVENT
DTSTART;TZID=Europe/Berlin:20251123T170000
DTEND;TZID=Europe/Berlin:20251123T170000
DTSTAMP:20260420T094653
CREATED:20250727T113641Z
LAST-MODIFIED:20250727T124011Z
UID:4518-1763917200-1763917200@leasuter.com
SUMMARY:#venedig Cavalli und Schütz
DESCRIPTION:Matthias Weckmann hat vermutlich im Zusammenhang mit der Erlangung des Bürgerrechtes im Domrempter der Jakobikirche Hamburg das Recht bekommen\, mit seinem Collegium Musicum jeden Donnerstag »die besten Sachen aus Venedig\, Rom\, Wien\, München\, Dresden &c.« aufzuführen\, so hat es Johann Mattheson 1713 überliefert. Eine Art Konzertreihe für alle Gesellschaftsschichten\, bei der neben ambitionierten Laien – gemessen an den technischen Herausforderungen der Werke – auch hochprofessionelle Musiker auftraten. \nDer Jakobi-Organist komponierte 1663 zehn Sonaten für eben dieses Collegium Musicum für Zink\, Violine\, Posaune\, Dulzian und Orgel\, nach dessen Vorbild sich das Weckmann-Consort gründete\, mit dem Ziel seine Sonaten zu spielen und die hochvirtuosen Spieltechniken der historischen Instrumente wiederzubeleben. \nZu seinem fünf-jährigen Bestehen möchte nun das Weckmann-Consort diese anspruchsvollen\, selten gespielten Sonaten in einer fünf-teiligen Konzertreihe kombiniert mit den besten Sachen aus Venedig\, Rom\, Wien\, München und Dresden aufführen und wie zu Weckmanns Zeiten einem vielschichtigen Publikum näherbringen. \nSo wie Weckmann die besten Sachen aus den Metropolen Europas nach Hamburg holte\, möchten wir die Besten Sachen – neu entdeckt – ins Konzert bringen. \n  \nZusammen mit der Kantorei Leer unter der Leitung von Christian Meyer führen wir Heinrich Schützes musicalische Exequien und Cavallis Requiem auf. \n  \n  \nWeckmann-Consort  \nLea Suter\, Orgel – künstlerische Leitung \nJuan González\, Barockposaune \nCarla Linné\, Violine \nJosquin Piguet\, Zink \nClemens Schlemmer\, Dulzian \n 
URL:https://leasuter.com/event/rom/
LOCATION:Leer\, Grosse Kirche
CATEGORIES:Weckmann-Consort
ATTACH;FMTTYPE=image/jpeg:https://leasuter.com/wp-content/uploads/2025/07/25031_0029-scaled.jpg
END:VEVENT
BEGIN:VEVENT
DTSTART;TZID=Europe/Berlin:20251127T190000
DTEND;TZID=Europe/Berlin:20251127T190000
DTSTAMP:20260420T094653
CREATED:20250727T121022Z
LAST-MODIFIED:20250727T121022Z
UID:4532-1764270000-1764270000@leasuter.com
SUMMARY:Espanoletas - Spanischer Wind
DESCRIPTION:Variationen eines Liebesliedes \nSchwungvolle Tänze\, liebliche Canzonen und mitreißende Recercadas\, gespielt von einer historischen Ministriles-Besetzung\, vermitteln in diesem Konzert einen Eindruck von der ungeheuren Lebensfreude und der beglückenden Lust an Festen und Feiern\, die uns aus der spanischen Stadtpfeifer-Musik des 16. und 17. Jahrhunderts entgegenstrahlt. \nMit dem Programm “Españoletas – Spanischer Wind” möchte das Ensemble für Alte Musik Concierteo Ibérico das Spiel der Ministriles\, der Stadtmusikanten aus dem 14. bis 18. Jahrhundert\, wieder auferstehen und heutige Hörer daran teilhaben lassen. Mit festlicher Musik der Renaissance und des Frühbarock nimmt das Ensemble die Konzertbesucher mit auf eine Zeitreise in das Siglo de Oro mitnehmen\, in das goldene Zeitalter Spaniens\, in dem Komponisten wie Antonio de Cabezón\, Diego Ortiz und Gaspar Sanz in ganz Europa gefeiert wurden. \nConcierto Ibérico ist ein Ensemble\, das sich mit Musik der Renaissance und des Barock beschäftigt und auf historischen Blas- und allerhand Instrumenten spielt. \nMit ihrer Musik möchte das Ensemble den Kulturaustausch zwischen Spanien und dem übrigen Europa befördern\, der schon seit dem Siglo de Oro\, dem goldenen Zeitalter Spaniens von etwa Mitte des 16. bis Mitte des 17. Jahrhunderts\, bestand. Über die europäischen Grenzen hinaus vertiefen sie die künstlerische Auseinandersetzung mit den interkulturellen Einflüßen zwischen der iberischen Halbinsel und Lateinamerika\, Afrika und dem Nahen Osten\, um das Publikum in einem aktuellen interkulturellen Dialog der heutigen Zeit mit Klängen der Vergangenheit und der Gegenwart anzusprechen. \nConcierto Ibérico \nJuan González Martínez – Renaissance-Posaune (Ltg.)\nInés Pina Pérez – Renaissance-Blockflöten\nMiguel Bellas – Spanische Gitarre\, Theorbe\nLea Suter – Orgel\nPeter Kuhnsch – Perkussion \n  \nKarten zu diesem Konzert\, das vom Kulturradio WDR 3 Alte Musik in NRW aufgezeichnet und später im Hörfunk gesendet wird\, gibt es ab sofort im Schloß Borbeck\, Schlossplatz 1 (ehemals Schloßstraße 101)\, telefonisch unter 0201 88-44219 oder per Mail an: kulturzentrum@schlossborbeck.essen.de.
URL:https://leasuter.com/event/espanoletas-spanischer-wind-16/
LOCATION:Essen\, Schloß Borbeck
CATEGORIES:Ensemble Concierto Iberico
ATTACH;FMTTYPE=image/jpeg:https://leasuter.com/wp-content/uploads/2024/05/24022_0340-1-3.jpg
END:VEVENT
END:VCALENDAR